Workbook
Name __C370320: [1]資材単価!$I$80
Name __C371625: [1]資材単価!$I$88
Name __C371100: [1]資材単価!$I$85
Name __C370800: [1]資材単価!$I$84
Name __C371640: [1]資材単価!$I$90
Name __C371200: [1]資材単価!$I$86
Name _C300200: [1]資材単価!$I$11
Name __C371650: [1]資材単価!$I$91
Name __C371300: [1]資材単価!$I$87
Name __C371725: [1]資材単価!$I$92
Name 諸経費: [5]細目!$G$47
Name _A: [2]種目!$BS$2
Name __C480900: [1]資材単価!$I$135
Name __C371740: [1]資材単価!$I$94
Name _C370400: [1]資材単価!$I$81
Name _C303800: [1]資材単価!$I$28
Name __C371750: [1]資材単価!$I$95
Name __C481000: [1]資材単価!$I$136
Name _C370135: [1]資材単価!$I$78
Name _C370240: [1]資材単価!$I$79
Name _C370320: [1]資材単価!$I$80
Name _C370500: [1]資材単価!$I$82
Name _C370600: [1]資材単価!$I$83
Name _W: [2]種目!$BS$45
Name _C371100: [1]資材単価!$I$85
Name _C371625: [1]資材単価!$I$88
Name _C371200: [1]資材単価!$I$86
Name _C371300: [1]資材単価!$I$87
Name _C371630: [1]資材単価!$I$89
Name _C371640: [1]資材単価!$I$90
Name _C371650: [1]資材単価!$I$91
Name _C371725: [1]資材単価!$I$92
Name _C480900: [1]資材単価!$I$135
Name _C371730: [1]資材単価!$I$93
Name _C371740: [1]資材単価!$I$94
Name _C371750: [1]資材単価!$I$95
Name _C481000: [1]資材単価!$I$136
Name たく: [3]種目!$A$2:$K$17
Name と: [4]種目!$AD$12:$BO$1236
Name なか: [3]種目!$A$740:$H$740
Name 工事価格: [5]算出!$G$54
Name 工事名称: [5]細目!$B$2
Name 消費税相当額: [5]算出!$G$61
Name 積算価格: [5]算出!$G$63
Name 総合仮設費: [5]算出!$H$29
Name 単価表１: [6]種目!$AD$12:$BO$1230
Name 直接工事費: [5]細目!$H$2
Name __C303800: [1]資材単価!$I$28
Name __C460211: [1]資材単価!$I$129
Name _C370003: [1]資材単価!$I$77
Name 特定工事一覧２: [3]種目!$AD$12:$BO$1236
Name 付加安全費２: [3]種目!$W$6:$AB$50
Name __C371730: [1]資材単価!$I$93
Name __C300200: [1]資材単価!$I$11
Name __C370500: [1]資材単価!$I$82
Name __C370400: [1]資材単価!$I$81
Name __C371630: [1]資材単価!$I$89
Name _C460211: [1]資材単価!$I$129
Name __C370003: [1]資材単価!$I$77
Name __C370135: [1]資材単価!$I$78

Sheet 大項目
H1: 設 計 | I1: 精 査
C4: 工事場所 | D4: 筑後市大字下北島150番地1及び172番地他
C6: 工事名称 | D6: 筑後市再編新設小学校校舎等新築工事（建築工事）
C9: 工 事 費 | G9: 円
A10: 業者名
A11: (所在地)
D12: 工 事 価 格 | I12: 円
A14: (名称・代表者氏名)
D15: 消費税相当額 | I15: 円
A18: 〇 名 称 | C18: 摘 要 | D18: 数量 | E18: 単位 | F18: 単価 | G18: 金 額 | H18: 備 考
B20: 直接工事費
C22: Ａ）新営建築工事 | D22: 1 | E22: 式
C24: Ｂ）屋外付帯工事 | D24: 1 | E24: 式
C26: Ｃ）解体工事 | D26: 1 | E26: 式
C28: Ｄ）産廃等処分費 | D28: 1 | E28: 式
C30: 計
B32: 共 通 費
C36: Ⅰ．共通仮設費 | D36: 1 | E36: 式
C38: Ⅱ．現場管理費 | D38: 1 | E38: 式
C40: Ⅲ．一般管理費等 | D40: 1 | E40: 式
C42: 計
B48: 合計（工事価格） | D48: 1 | E48: 式
B52: 消費税相当額 | D52: 1 | E52: 式
B56: 総合計（工事費） | D56: 1 | E56: 式

Sheet 経費率計算表2
A1: ◇建築工事
A2: 共通仮設費率（計算表） | H2: 現場管理費率（計算表） | O2: 一般管理費率等（計算表）
A3: 新営 | D3: 2066000000 | E3: =#REF! -> #REF! | F3: 元金： | G3: =#REF! -> #REF! | H3: 新営 | K3: 工期： | L3: =#REF! -> #REF! | M3: 元金： | N3: =#REF! -> #REF! | Q3: 元金： | R3: =#REF! -> #REF!
A4: 採用率 | B4: 計算値 | C4: 下限値 | D4: 中間値 | E4: 上限値 | F4: 範囲 | H4: 採用率 | I4: 計算値 | J4: 下限値 | K4: 中間値 | L4: 上限値 | M4: 範囲 | O4: 採用率 | P4: 計算値 | Q4: 範囲
A5: =IF(G3=0,0,IF(F6="○",B6,B5)) -> #REF! | B5: =IF(D5<C5,C5,IF(E5<D5,E5,D5)) -> #REF! | C5: 0.0325 | D5: =ROUND((7.56*((G3/1000)^(-0.1105))*(E3^0.2388))/100,4) -> #REF! | E5: 0.0433 | F5: =IF(G3<=10000000,"○","×") -> #REF! | G5: １千万円以下 | H5: =IF(N3=0,0,IF(M6="○",I6,I5)) -> #REF! | I5: =IF(K5<J5,J5,IF(L5<K5,L5,K5)) -> #REF! | J5: 0.1001 | K5: =ROUND((151.08*((N3/1000)^(-0.3396))*(L3^0.586))/100,4) -> #REF! | L5: 0.2013 | M5: =IF(N3<=10000000,"○","×") -> #REF! | N5: １千万円以下 | O5: =IF(Q5="○",P5,IF(Q7="○",P7,IF(Q9="○",P9,0))) -> #REF! | P5: 0.1724 | Q5: =IF(R3<=5000000,"○","×") -> #REF! | R5: 500万円以下
B6: =IF(D6<C6,C6,IF(E6<D6,E6,D6)) -> #REF! | C6: =ROUND((4.34*((G3/1000)^(-0.0313)))/100,4) -> #REF! | D6: =ROUND((7.56*((G3/1000)^(-0.1105))*(E3^0.2388))/100,4) -> #REF! | E6: =ROUND((5.78*((G3/1000)^(-0.0313)))/100,4) -> #REF! | F6: =IF(G3>10000000,"○","×") -> #REF! | G6: １千万円を超える | I6: =IF(K6<J6,J6,IF(L6<K6,L6,K6)) -> #REF! | J6: =ROUND((37.76*((N3/1000)^(-0.1442)))/100,4) -> #REF! | K6: =ROUND((151.08*((N3/1000)^(-0.3396))*(L3^0.586))/100,4) -> #REF! | L6: =ROUND((75.97*((N3/1000)^(-0.1442)))/100,4) -> #REF! | M6: =IF(N3>10000000,"○","×") -> #REF! | N6: １千万円を超える
A7: 改修 | D7: 工期： | E7: =#REF! -> #REF! | F7: 元金： | G7: =#REF! -> #REF! | H7: 改修 | K7: 工期： | L7: =#REF! -> #REF! | M7: 元金： | N7: =#REF! -> #REF! | P7: =ROUND((28.978-3.173*LOG(R3/1000))/100,4) -> #REF! | Q7: =IF(AND(5000000<R3,R3<=3000000000),"○","×") -> #REF! | R7: 500万円を超え 30億円以下
A8: 採用率 | B8: 計算値 | C8: 下限値 | D8: 中間値 | E8: 上限値 | F8: 範囲 | H8: 採用率 | I8: 計算値 | J8: 下限値 | K8: 中間値 | L8: 上限値 | M8: 範囲
A9: =IF(G7=0,0,IF(F10="○",B10,B9)) -> #REF! | B9: =IF(D9<C9,C9,IF(E9<D9,E9,D9)) -> #REF! | C9: 0.0359 | D9: =ROUND((18.03*((G7/1000)^(-0.2027))*(E7^0.4017))/100,4) -> #REF! | E9: 0.0607 | F9: =IF(G7<=5000000,"○","×") -> #REF! | G9: ー | H9: =IF(N7=0,0,IF(M10="○",I10,I9)) -> #REF! | I9: =IF(K9<J9,J9,IF(L9<K9,L9,K9)) -> #REF! | J9: 0.127 | K9: =ROUND((356.2*((N7/1000)^(-0.4085))*(L7^0.5766))/100,4) -> #REF! | L9: 0.2686 | M9: =IF(N7<=5000000,"○","×") -> #REF! | N9: 500万円以下 | P9: 0.0843 | Q9: =IF(3000000000<=R3,"○","×") -> #REF! | R9: 30億円を超える
B10: =IF(D10<C10,C10,IF(E10<D10,E10,D10)) -> #REF! | C10: =ROUND((6.94*((G7/1000)^(-0.0774)))/100,4) -> #REF! | D10: =ROUND((18.03*((G7/1000)^(-0.2027))*(E7^0.4017))/100,4) -> #REF! | E10: =ROUND((11.74*((G7/1000)^(-0.0774)))/100,4) -> #REF! | F10: =IF(G7>5000000,"○","×") -> #REF! | G10: 500万円を超える | I10: =IF(K10<J10,J10,IF(L10<K10,L10,K10)) -> #REF! | J10: =ROUND((87.29*((N7/1000)^(-0.2263)))/100,4) -> #REF! | K10: =ROUND((356.2*((N7/1000)^(-0.4085))*(L7^0.5766))/100,4) -> #REF! | L10: =ROUND((184.58*((N7/1000)^(-0.2263)))/100,4) -> #REF! | M10: =IF(N7>5000000,"○","×") -> #REF! | N10: 500万円を超える
A11: ◇電気工事
A12: 共通仮設費率（計算表） | H12: 現場管理費率（計算表） | O12: 一般管理費率等（計算表）
A13: 新営 | D13: 工期： | E13: =#REF! -> #REF! | F13: 元金： | G13: =#REF! -> #REF! | H13: 新営 | K13: 工期： | L13: =#REF! -> #REF! | M13: 元金： | N13: =#REF! -> #REF! | Q13: 元金： | R13: =#REF! -> #REF!
A14: 採用率 | B14: 計算値 | C14: 下限値 | E14: 上限値 | F14: 範囲 | H14: 採用率 | I14: 計算値 | J14: 下限値 | K14: 中間値 | L14: 上限値 | M14: 範囲 | O14: 採用率 | P14: 計算値 | Q14: 範囲
A15: =IF(G13=0,0,IF(F16="○",B16,B15)) -> #REF! | B15: =IF(D15<C15,C15,IF(E15<D15,E15,D15)) -> #REF! | C15: 0.039 | D15: =ROUND((22.89*((G13/1000)^(-0.2462))*(E13^0.41))/100,4) -> #REF! | E15: 0.0719 | F15: =IF(G13<=5000000,"○","×") -> #REF! | G15: 500万円以下 | H15: =IF(N13=0,0,IF(M16="○",I16,I15)) -> #REF! | I15: =IF(K15<J15,J15,IF(L15<K15,L15,K15)) -> #REF! | J15: 0.2291 | K15: =ROUND((351.48*((N13/1000)^(-0.3528))*(L13^0.3524))/100,4) -> #REF! | L15: 0.386 | M15: =IF(N13<=5000000,"○","×") -> #REF! | N15: 500万円以下 | O15: =IF(Q15="○",P15,IF(Q17="○",P17,IF(Q19="○",P19,0))) -> #REF! | P15: 0.1749 | Q15: =IF(R13<=3000000,"○","×") -> #REF! | R15: 300万円以下
B16: =IF(D16<C16,C16,IF(E16<D16,E16,D16)) -> #REF! | C16: =ROUND((9.08*((G13/1000)^(-0.0992)))/100,4) -> #REF! | D16: =ROUND((22.89*((G13/1000)^(-0.2462))*(E13^0.41))/100,4) -> #REF! | E16: =ROUND((16.73*((G13/1000)^(-0.0992)))/100,4) -> #REF! | F16: =IF(G13>5000000,"○","×") -> #REF! | G16: 500万円を超える | I16: =IF(K16<J16,J16,IF(L16<K16,L16,K16)) -> #REF! | J16: =ROUND((156.07*((N13/1000)^(-0.2253)))/100,4) -> #REF! | K16: =ROUND((351.48*((N13/1000)^(-0.3528))*(L13^0.3524))/100,4) -> #REF! | L16: =ROUND((263.03*((N13/1000)^(-0.2253)))/100,4) -> #REF! | M16: =IF(N13>5000000,"○","×") -> #REF! | N16: 500万円を超える
A17: 改修 | D17: 工期： | E17: =#REF! -> #REF! | F17: 元金： | G17: =#REF! -> #REF! | H17: 改修 | K17: 工期： | L17: =#REF! -> #REF! | M17: 元金： | N17: =#REF! -> #REF! | P17: =ROUND((29.102-3.34*LOG(R13/1000))/100,4) -> #REF! | Q17: =IF(AND(3000000<R13,R13<=2000000000),"○","×") -> #REF! | R17: 300万円を超え 20億円以下
A18: 採用率 | B18: 計算値 | C18: 下限値 | D18: 中間値 | E18: 上限値 | F18: 範囲 | H18: 採用率 | I18: 計算値 | J18: 下限値 | K18: 中間値 | L18: 上限値 | M18: 範囲
A19: =IF(G17=0,0,IF(F20="○",B20,B19)) -> #REF! | B19: =IF(D19<C19,C19,IF(E19<D19,E19,D19)) -> #REF! | C19: 0.0359 | D19: =ROUND((10.15*((G17/1000)^(-0.2462))*(E17^0.6929))/100,4) -> #REF! | E19: 0.0521 | F19: =IF(G17<=3000000,"○","×") -> #REF! | G19: 300万円以下 | H19: =IF(N17=0,0,IF(M20="○",I20,I19)) -> #REF! | I19: =IF(K19<J19,J19,IF(L19<K19,L19,K19)) -> #REF! | J19: 0.1767 | K19: =ROUND((658.42*((N17/1000)^(-0.4896))*(L17^0.7247))/100,4) -> #REF! | L19: 0.5037 | M19: =IF(N17<=3000000,"○","×") -> #REF! | N19: 300万円以下 | P19: 0.0806 | Q19: =IF(2000000000<=R13,"○","×") -> #REF! | R19: 20億円を超える
B20: =IF(D20<C20,C20,IF(E20<D20,E20,D20)) -> #REF! | C20: =ROUND((3.1*((G17/1000)^(-0.0608)))/100,4) -> #REF! | D20: =ROUND((10.15*((G17/1000)^(-0.2462))*(E17^0.6929))/100,4) -> #REF! | E20: =ROUND((8.47*((G17/1000)^(-0.0608)))/100,4) -> #REF! | F20: =IF(G17>3000000,"○","×") -> #REF! | G20: 300万円を超える | I20: =IF(K20<J20,J20,IF(L20<K20,L20,K20)) -> #REF! | J20: =ROUND((186.18*((N17/1000)^(-0.2941)))/100,4) -> #REF! | K20: =ROUND((658.42*((N17/1000)^(-0.4896))*(L17^0.7247))/100,4) -> #REF! | L20: =ROUND((530.68*((N17/1000)^(-0.2941)))/100,4) -> #REF! | M20: =IF(N17>3000000,"○","×") -> #REF! | N20: 300万円を超える
A21: ◇機械工事
A22: 共通仮設費率（計算表） | H22: 現場管理費率（計算表） | O22: 一般管理費率等（計算表）
A23: 新営 | D23: 工期： | E23: =#REF! -> #REF! | F23: 元金： | G23: =#REF! -> #REF! | H23: 新営 | K23: 工期： | L23: =#REF! -> #REF! | M23: 元金： | N23: =#REF! -> #REF! | Q23: 元金： | R23: =#REF! -> #REF!
A24: 採用率 | B24: 計算値 | C24: 下限値 | D24: 中間値 | E24: 上限値 | F24: 範囲 | H24: 採用率 | I24: 計算値 | J24: 下限値 | K24: 中間値 | L24: 上限値 | M24: 範囲 | O24: 採用率 | P24: 計算値 | Q24: 範囲
A25: =IF(G23=0,0,IF(F26="○",B26,B25)) -> #REF! | B25: =IF(D25<C25,C25,IF(E25<D25,E25,D25)) -> #REF! | C25: 0.0486 | D25: =ROUND((12.15*((G23/1000)^(-0.1186))*(E23^0.0882))/100,4) -> #REF! | E25: 0.0551 | F25: =IF(G23<=5000000,"○","×") -> #REF! | G25: 500万円以下 | H25: =IF(N23=0,0,IF(M26="○",I26,I25)) -> #REF! | I25: =IF(K25<J25,J25,IF(L25<K25,L25,K25)) -> #REF! | J25: 0.1714 | K25: =ROUND((152.72*((N23/1000)^(-0.3085))*(L23^0.4222))/100,4) -> #REF! | L25: 0.3123 | M25: =IF(N23<=5000000,"○","×") -> #REF! | N25: 500万円以下 | O25: =IF(Q25="○",P25,IF(Q27="○",P27,IF(Q29="○",P29,0))) -> #REF! | P25: 0.1668 | Q25: =IF(R23<=3000000,"○","×") -> #REF! | R25: 300万円以下
B26: =IF(D26<C26,C26,IF(E26<D26,E26,D26)) -> #REF! | C26: =ROUND((10.94*((G23/1000)^(-0.0952)))/100,4) -> #REF! | D26: =ROUND((12.15*((G23/1000)^(-0.1186))*(E23^0.0882))/100,4) -> #REF! | E26: =ROUND((12.4*((G23/1000)^(-0.0952)))/100,4) -> #REF! | F26: =IF(G23>5000000,"○","×") -> #REF! | G26: 500万円を超える | I26: =IF(K26<J26,J26,IF(L26<K26,L26,K26)) -> #REF! | J26: =ROUND((90.67*((N23/1000)^(-0.1956)))/100,4) -> #REF! | K26: =ROUND((152.72*((N23/1000)^(-0.3085))*(L23^0.4222))/100,4) -> #REF! | L26: =ROUND((165.22*((N23/1000)^(-0.1956)))/100,4) -> #REF! | M26: =IF(N23>5000000,"○","×") -> #REF! | N26: 500万円を超える
A27: 改修 | D27: 工期： | E27: =#REF! -> #REF! | F27: 元金： | G27: =#REF! -> #REF! | H27: 改修 | K27: 工期： | L27: =#REF! -> #REF! | M27: 元金： | N27: =#REF! -> #REF! | P27: =ROUND((27.283-3.049*LOG(R23/1000))/100,4) -> #REF! | Q27: =IF(AND(3000000<R23,R23<=2000000000),"○","×") -> #REF! | R27: 300万円を超え 20億円以下
A28: 採用率 | B28: 計算値 | C28: 下限値 | D28: 中間値 | E28: 上限値 | F28: 範囲 | H28: 採用率 | I28: 計算値 | J28: 下限値 | K28: 中間値 | L28: 上限値 | M28: 範囲
A29: =IF(G27=0,0,IF(F30="○",B30,B29)) -> #REF! | B29: =IF(D29<C29,C29,IF(E29<D29,E29,D29)) -> #REF! | C29: 0.0173 | D29: =ROUND((12.21*((G27/1000)^(-0.2596))*(E27^0.6874))/100,4) -> #REF! | E29: 0.0496 | F29: =IF(G27<=3000000,"○","×") -> #REF! | G29: 300万円以下 | H29: =IF(N27=0,0,IF(M30="○",I30,I29)) -> #REF! | I29: =IF(K29<J29,J29,IF(L29<K29,L29,K29)) -> #REF! | J29: 0.1525 | K29: =ROUND((825.85*((N27/1000)^(-0.5122))*(L27^0.6648))/100,4) -> #REF! | L29: 0.4207 | M29: =IF(N27<=3000000,"○","×") -> #REF! | N29: 300万円以下 | P29: 0.0807 | Q29: =IF(2000000000<=R23,"○","×") -> #REF! | R29: 20億円を超える
B30: =IF(D30<C30,C30,IF(E30<D30,E30,D30)) -> #REF! | C30: =ROUND((2.44*((G27/1000)^(-0.0433)))/100,4) -> #REF! | D30: =ROUND((12.21*((G27/1000)^(-0.2596))*(E27^0.6874))/100,4) -> #REF! | E30: =ROUND((7.02*((G27/1000)^(-0.0433)))/100,4) -> #REF! | F30: =IF(G27>3000000,"○","×") -> #REF! | G30: 300万円を超える | I30: =IF(K30<J30,J30,IF(L30<K30,L30,K30)) -> #REF! | J30: =ROUND((169.65*((N27/1000)^(-0.3009)))/100,4) -> #REF! | K30: =ROUND((825.85*((N27/1000)^(-0.5122))*(L27^0.6648))/100,4) -> #REF! | L30: =ROUND((467.95*((N27/1000)^(-0.3009)))/100,4) -> #REF! | M30: =IF(N27>3000000,"○","×") -> #REF! | N30: 300万円を超える
A31: ◇昇降機工事
A32: 共通仮設費率（計算表） | H32: 現場管理費率（計算表） | O32: 一般管理費率等（計算表）
A33: 新営 | D33: 工期： | E33: =#REF! -> #REF! | F33: 元金： | G33: =#REF! -> #REF! | H33: 新営 | K33: 工期： | L33: =#REF! -> #REF! | M33: 元金： | N33: =#REF! -> #REF! | Q33: 元金： | R33: =#REF! -> #REF!
D34: 採用率 | E34: 計算値 | F34: 範囲 | K34: 採用率 | L34: 計算値 | M34: 範囲 | O34: 採用率 | P34: 計算値 | Q34: 範囲
D35: =IF(F35="○",E35,IF(F37="○",E37,IF(F39="○",E39,0))) -> #REF! | E35: 0.0308 | F35: =IF(G33<=10000000,"○","×") -> #REF! | G35: 1000万円以下 | K35: =IF(M35="○",L35,IF(M37="○",L37,IF(M39="○",L39,0))) -> #REF! | L35: 0.0398 | M35: =IF(N33<=10000000,"○","×") -> #REF! | N35: 1000万円以下 | O35: =IF(Q35="○",P35,IF(Q37="○",P37,IF(Q39="○",P39,0))) -> #REF! | P35: 0.1668 | Q35: =IF(R33<=3000000,"○","×") -> #REF! | R35: 300万円以下
E37: =ROUND((7.89*(G33/1000)^(-0.1021))/100,4) -> #REF! | F37: =IF(AND(10000000<G33,G33<=500000000),"○","×") -> #REF! | G37: 1000万円を超え 5億円以下 | L37: =ROUND((15.1*(N33/1000)^(-0.1449))/100,4) -> #REF! | M37: =IF(AND(10000000<N33,N33<=500000000),"○","×") -> #REF! | N37: 1000万円を超え 5億円以下 | P37: =ROUND((27.283-3.049*LOG(R33/1000))/100,4) -> #REF! | Q37: =IF(AND(3000000<R33,R33<=2000000000),"○","×") -> #REF! | R37: 300万円を超え 20億円以下
E39: 0.0207 | F39: =IF(500000000<=G33,"○","×") -> #REF! | G39: 5億円を超える | L39: 0.0226 | M39: =IF(500000000<=N33,"○","×") -> #REF! | N39: 5億円を超える | P39: 0.0807 | Q39: =IF(2000000000<=R33,"○","×") -> #REF! | R39: 20億円を超える

Sheet 種目別
A1: 〇 名 称 | C1: 摘 要 | D1: 数 量 | E1: 単位 | F1: 単 価 | G1: 金 額 | H1: 備 考
A3: Ａ) | B3: 新営建築工事
A5: ① | B5: 校舎棟 | D5: 1 | E5: 式
A7: ② | B7: 体育館棟 | D7: 1 | E7: 式
A9: ③ | B9: 屋外倉庫棟 | D9: 1 | E9: 式
A11: ④ | B11: 車寄せ棟 | D11: 1 | E11: 式
A13: ⑤ | B13: 屋外トイレ棟 | D13: 1 | E13: 式
A15: ⑥ | B15: 駐輪場棟 | D15: 1 | E15: 式
A17: ⑦ | B17: 駐車場棟 | D17: 1 | E17: 式
A19: ⑧ | B19: 受水槽棟 | D19: 1 | E19: 式
B21: 小 計
A23: Ｂ） | B23: 屋外付帯工事
A25: ⑨ | B25: 外構 | D25: 1 | E25: 式
A27: ⑩ | B27: 土木工事 | D27: 1 | E27: 式
B29: 小 計
A31: Ｃ） | B31: 解体工事
A33: ⑪ | B33: 解体工事 | D33: 1 | E33: 式
A35: D） | B35: 産廃処分費
A37: ⑫ | B37: 産業廃棄物処分費 | D37: 1 | E37: 式
B41: 計

Sheet ①校舎棟
A1: 名 称 | C1: 摘 要 | D1: 数 量 | E1: 単位 | F1: 単 価 | G1: 金 額 | H1: 備 考
A3: ① | B3: 校舎棟
A7: 1 | B7: 直接仮設工事 | D7: 1 | E7: 式
A9: ２ | B9: 土工事 | D9: 1 | E9: 式
A11: ３ | B11: 地業工事 | D11: 1 | E11: 式
A13: ４ | B13: 鉄筋工事 | D13: 1 | E13: 式
A15: ５ | B15: コンクリート工事 | D15: 1 | E15: 式
A17: ６ | B17: 型枠工事 | D17: 1 | E17: 式
A19: ７ | B19: 鉄骨工事 | D19: 1 | E19: 式
A21: ８ | B21: 防水工事 | D21: 1 | E21: 式
A23: ９ | B23: 石工事 | D23: 1 | E23: 式
A25: １０ | B25: タイル工事 | D25: 1 | E25: 式
A27: １１ | B27: 木工事 | D27: 1 | E27: 式
A29: １２ | B29: 屋根及びとい工事 | D29: 1 | E29: 式
... A49: ２２ | B49: 昇降設備工事 | D49: 1 | E49: 式
B81: 合 計
A83: 1 | B83: 直接仮設工事
B87: やり方 | C87: RC造 | D87: 4100 | E87: ｍ2
B89: 墨出し | C89: RC造 地上部 | D89: 7149 | E89: ｍ2
B91: 養生 | C91: RC造 地上部 | D91: 7149 | E91: ｍ2
B93: 整理清掃後片付け | C93: RC造 地上部 | D93: 7149 | E93: ｍ2
B97: 墨出し | C97: RC造 大規模ピット | D97: 2164 | E97: m2
B99: 養生 | C99: RC造 大規模ピット | D99: 2164 | E99: m2
B101: 整理清掃後片付け | C101: RC造 大規模ピット | D101: 2164 | E101: m2
B105: 地足場 | C105: ４週間 運搬費共 | D105: 4100 | E105: ｍ2
C106: 枠組本足場（手すり先行方式）建枠900x1700 布枠500+240
B107: 外部足場 | C107: 高さ12m未満 6.5ヶ月 運搬費共 | D107: 5089 | E107: ｍ2
C108: 枠組棚足場
B109: 外部足場 | C109: 階高4.0m超5.0m未満 6.5ヶ月 運搬費共 | D109: 855 | E109: ｍ2
C110: 枠組棚足場
B111: 外部足場 | C111: 階高7.4m以上9.1m未満 6.5ヶ月 運搬費共 | D111: 227 | E111: ｍ2
B113: 災害防止（防音ｼｰﾄ） | C113: 6.5ヶ月 運搬費共 | D113: 5089 | E113: ｍ2
C116: 躯体支保工
B117: 外部躯体足場 | C117: 階高7.4m以上9.1m未満 1ヶ月 運搬費共 | D117: 227 | E117: m2
C118: 鉄筋型枠足場
B119: 内部躯体足場 | C119: 階高4.0m超5.0m未満 1ヶ月 運搬費共 | D119: 5260 | E119: m2
C120: 鉄筋型枠足場
B121: 内部躯体足場 | C121: 階高5.0m以上5.7m未満 1ヶ月 運搬費共 | D121: 128 | E121: m2
C122: 躯体支保工
B123: 内部躯体足場 | C123: 階高7.4m以上9.1m未満 1ヶ月 運搬費共 | D123: 64 | E123: m2
...

Sheet ②体育館棟
A1: 名 称 | C1: 摘 要 | D1: 数 量 | E1: 単位 | F1: 単 価 | G1: 金 額 | H1: 備 考
A3: ② | B3: 体育館棟
A7: 1 | B7: 直接仮設工事 | D7: 1 | E7: 式
A9: 2 | B9: 土工事 | D9: 1 | E9: 式
A11: 3 | B11: 地業工事 | D11: 1 | E11: 式
A13: 4 | B13: 鉄筋工事 | D13: 1 | E13: 式
A15: 5 | B15: コンクリート工事 | D15: 1 | E15: 式
A17: 6 | B17: 型枠工事 | D17: 1 | E17: 式
A19: 7 | B19: 鉄骨工事 | D19: 1 | E19: 式
A21: 8 | B21: 既製コンクリート工事 | D21: 1 | E21: 式
A23: 9 | B23: 防水工事 | D23: 1 | E23: 式
A25: 10 | B25: 石工事 | D25: 1 | E25: 式
A27: 11 | B27: タイル工事 | D27: 1 | E27: 式
A29: 12 | B29: 木工事 | D29: 1 | E29: 式
... A49: 22 | B49: 昇降設備工事 | D49: 1 | E49: 式
B81: 合 計
A83: 1 | B83: 直接仮設工事
B87: やり方 | C87: RC造 | D87: 2214 | E87: m2
B89: 墨出し | C89: RC造 地上部 | D89: 3570 | E89: m2
B91: 養生 | C91: RC造 地上部 | D91: 3570 | E91: m2
B93: 整理清掃後片付け | C93: RC造 地上部 | D93: 3570 | E93: m2
B97: 墨出し | C97: RC造 大規模ピット | D97: 996 | E97: m2
B99: 養生 | C99: RC造 大規模ピット | D99: 996 | E99: m2
B101: 整理清掃後片付け | C101: RC造 大規模ピット | D101: 996 | E101: m2
B105: 地足場 | C105: ４週間 運搬費共 | D105: 2214 | E105: ｍ2
C106: 枠組本足場（手すり先行方式） 建枠 900×1700 布枠500+240
B107: 外部足場 | C107: 高さ12m未満 5.5ヶ月 手摺・運搬費共 | D107: 2862 | E107: m2
C108: 枠組本足場（手すり先行方式） 建枠 900×1700 布枠500+240
B109: 外部足場（傾斜壁部） | C109: 高さ12m未満 5.5ヶ月 手摺・運搬費共 | D109: 525 | E109: m2
B111: 災害防止（防音シート） | C111: 5.5ヶ月 運搬費共 | D111: 3387 | E111: m2
C114: 躯体支保工
B115: 外部躯体足場 | C115: 階高5.7ｍ以上7.4ｍ未満 運搬費共 | D115: 61.7 | E115: m2
C116: 躯体支保工
B117: 外部躯体足場 | C117: 階高7.4ｍ以上9.1ｍ未満 運搬費共 | D117: 105 | E117: m2
C118: 鉄筋型枠足場
B119: 内部躯体足場 | C119: 階高4.0ｍ超5.0ｍ未満 運搬費共 | D119: 1170 | E119: m2
C120: 躯体支保工
B121: 内部躯体足場 | C121: 階高5.0ｍ以上5.7ｍ未満 運搬費共 | D121: 39.3 | E121: m2
C122: 躯体支保工
B123: 内部躯体足場 | C123: 階高5.7ｍ以上7.4ｍ未満 運搬費共 | D123: 258 | E123: m2
...

Sheet ③屋外倉庫
A1: 名 称 | C1: 摘 要 | D1: 数 量 | E1: 単位 | F1: 単 価 | G1: 金 額 | H1: 備 考
A3: ③ | B3: 屋外倉庫棟
A7: 1 | B7: 直接仮設工事 | D7: 1 | E7: 式
A9: ２ | B9: 土工事 | D9: 1 | E9: 式
A11: ３ | B11: 地業工事 | D11: 1 | E11: 式
A13: ４ | B13: 鉄筋工事 | D13: 1 | E13: 式
A15: ５ | B15: コンクリート工事 | D15: 1 | E15: 式
A17: ６ | B17: 型枠工事 | D17: 1 | E17: 式
A19: ７ | B19: 鉄骨工事 | D19: 1 | E19: 式
A21: ８ | B21: 既製コンクリート工事 | D21: 1 | E21: 式
A23: ９ | B23: 防水工事 | D23: 1 | E23: 式
A25: １０ | B25: 屋根及びとい工事 | D25: 1 | E25: 式
A27: １１ | B27: 金属工事 | D27: 1 | E27: 式
A29: １２ | B29: 左官工事 | D29: 1 | E29: 式
... A37: １６ | B37: 仕上ユニット工事 | D37: 1 | E37: 式
B41: 合 計
A43: １ | B43: 直接仮設工事
B47: やり方 | C47: S造 | D47: 97.3 | E47: m2
B49: 墨出し | C49: S造 | D49: 97.3 | E49: m2
B51: 養生 | C51: S造 | D51: 97.3 | E51: m2
B53: 整理清掃後片付け | C53: S造 | D53: 97.3 | E53: m2
C54: 枠組本足場(手すり先行方式) 運搬費共
B55: 外部足場 | C55: 建枠 600×1700 布枠500x1枚 12m未満 2ヶ月 | D55: 178 | E55: m2
B57: 災害防止（養生シート） | C57: 防炎I類 運搬費共 2ヶ月 | D57: 94.3 | E57: m2
B59: 内部仕上足場 | C59: 脚立足場 階高4.0ｍ以下 運搬費共 1ヶ月 | D59: 97.3 | E59: m2
B61: 鉄骨足場 | C61: 吊棚足場 1ヶ月 運搬費共 | D61: 97.3 | E61: m2
B81: 計
A83: ２ | B83: 土工事
B87: 根切り | C87: つぼ､布掘り | D87: 119 | E87: ｍ3
B89: 床付け | C89: つぼ､布掘り | D89: 29.4 | E89: ｍ2
B91: 埋戻し（B種） | C91: 現場発生土 | D91: 81 | E91: ｍ3
B93: 盛 土（B種） | C93: 現場発生土 | D93: 5.5 | E93: ｍ3
C94: ダンプトラック10t積 DID区間なし
B95: 建設発生土運搬費 | C95: バックホウ0.8m3 22.5km以下 | D95: 32.5 | E95: ｍ3
B97: 土工機械運搬費 | D97: 1 | E97: 式
B121: 計
A123: ３ | B123: 地業工事
B127: （一般地業）
B129: 砂利地業 | C129: 基礎下 再生ｸﾗｯｼｬｰﾗﾝ | D129: 4.4 | E129: ｍ3
B131: 砂利地業 | C131: 土間下 再生ｸﾗｯｼｬｰﾗﾝ | D131: 4.4 | E131: ｍ3
...

Sheet ④車寄せ
A1: 名 称 | C1: 摘 要 | D1: 数 量 | E1: 単位 | F1: 単 価 | G1: 金 額 | H1: 備 考
A3: ④ | B3: 車寄せ棟
A7: 1 | B7: 直接仮設工事 | D7: 1 | E7: 式
A9: ２ | B9: 土工事 | D9: 1 | E9: 式
A11: ３ | B11: 地業工事 | D11: 1 | E11: 式
A13: ４ | B13: 鉄筋工事 | D13: 1 | E13: 式
A15: ５ | B15: コンクリート工事 | D15: 1 | E15: 式
A17: ６ | B17: 型枠工事 | D17: 1 | E17: 式
A19: ７ | B19: 鉄骨工事 | D19: 1 | E19: 式
A21: ８ | B21: 屋根及びとい工事 | D21: 1 | E21: 式
A23: ９ | B23: 塗装工事 | D23: 1 | E23: 式
B41: 合 計
A43: 1 | B43: 直接仮設工事
B47: やり方 | C47: 隅やり方 | D47: 4 | E47: ヶ所
B49: 墨出し | C49: 躯体 | D49: 13.7 | E49: m2
B51: 養生 | C51: 躯体 | D51: 13.7 | E51: m2
B53: 整理清掃後片付け | C53: RC造 | D53: 13.7 | E53: m2
B81: 計
A83: ２ | B83: 土工事
B87: 根切り | C87: つぼ､布掘り | D87: 33.8 | E87: ｍ3
B89: 床付け | C89: つぼ､布掘り | D89: 18 | E89: ｍ2
B91: 埋戻し（B種） | C91: 現場発生土 | D91: 20.8 | E91: ｍ3
C92: ダンプトラック10t積 DID区間なし
B93: 建設発生土運搬費 | C93: バックホウ0.8m3 22.5km以下 | D93: 13 | E93: ｍ3
B95: 土工機械運搬費 | C95: ※屋外倉庫棟_流用
B121: 計
A123: ３ | B123: 地業工事
B127: 砕石地業 | C127: 基礎下 再生ｸﾗｯｼｬｰﾗﾝ | D127: 2.7 | E127: ｍ3
B161: 計
A163: ４ | B163: 鉄筋工事
B167: 異形棒鋼 | C167: SD295A D13 | D167: 0.1 | E167: t
B169: 異形棒鋼 | C169: SD295A D16 | D169: 0.7 | E169: t
B171: 異形棒鋼 | C171: SSD345 D19 | D171: 0.1 | E171: t
B173: 鉄筋加工組立 | C173: 小型構造物 | D173: 0.9 | E173: t
B175: 鉄筋スクラップ控除 | C175: H2 | D175: -0.02 | E175: t
B201: 計
A203: ５ | B203: コンクリート工事
B207: 普通コンクリート | C207: Fc=18N/mm2 SL18 捨てコン | D207: 0.9 | E207: ｍ3
B209: 普通コンクリート | C209: Fc=24+3N/mm2 SL15 基礎部 | D209: 9.6 | E209: ｍ3
C210: シュート打設
...

Sheet ⑤屋外トイレ
A1: 名 称 | C1: 摘 要 | D1: 数 量 | E1: 単位 | F1: 単 価 | G1: 金 額 | H1: 備 考
A3: ⑤ | B3: 屋外トイレ棟
A7: 1 | B7: 直接仮設工事 | D7: 1 | E7: 式
A9: ２ | B9: 土工事 | D9: 1 | E9: 式
A11: ３ | B11: 地業工事 | D11: 1 | E11: 式
A13: ４ | B13: 鉄筋工事 | D13: 1 | E13: 式
A15: ５ | B15: コンクリート工事 | D15: 1 | E15: 式
A17: ６ | B17: 型枠工事 | D17: 1 | E17: 式
A19: ７ | B19: 既製コンクリート工事 | D19: 1 | E19: 式
A21: ８ | B21: 防水工事 | D21: 1 | E21: 式
A23: ９ | B23: タイル工事 | D23: 1 | E23: 式
A25: １０ | B25: 木工事 | D25: 1 | E25: 式
A27: １１ | B27: 金属工事 | D27: 1 | E27: 式
A29: １２ | B29: 左官工事 | D29: 1 | E29: 式
... A39: １７ | B39: 仕上ユニット工事 | D39: 1 | E39: 式
B41: 合 計
A43: 1 | B43: 直接仮設工事
B47: やり方 | C47: RC造 | D47: 52.5 | E47: ｍ2
B49: 墨出し | C49: RC造 | D49: 52.5 | E49: ｍ2
B51: 養生 | C51: RC造 | D51: 52.5 | E51: ｍ2
B53: 整理清掃後片付け | C53: RC造 | D53: 52.5 | E53: ｍ2
C54: 枠組本足場（手すり先行方式） 手摺、運搬費共
B55: 外部足場 | C55: 建枠 600×1700 布枠500x1枚 12m未満 ２ヶ月 | D55: 138 | E55: ｍ2
B57: 災害防止（養生シート） | C57: 防炎I類 運搬費共 2ヶ月 | D57: 73.9 | E57: ｍ2
B59: 内部仕上足場 | C59: 脚立足場 階高4.0ｍ以下 運搬費共 １ヶ月 | D59: 52.5 | E59: ｍ2
B81: 計
A83: ２ | B83: 土工事
B87: 根切り | C87: 総掘 法付オープンカット | D87: 137 | E87: ｍ3
B91: 埋戻し（B種） | C91: 現場発生土 | D91: 41.7 | E91: ｍ3
C92: ダンプトラック10t積 DID区間なし
B93: 建設発生土運搬費 | C93: バックホウ0.8m3 22.5km以下 | D93: 95.3 | E93: ｍ3
B95: 土工機械運搬費 | C95: ※屋外倉庫棟_流用
B121: 計
A123: ３ | B123: 地業工事
C126: 浅層混合処理工法
B127: 地盤改良 | C127: ｾﾒﾝﾄ又はｾﾒﾝﾄ系固化材100kg/m3 | D127: 101 | E127: ｍ3
B161: 計
A163: ４ | B163: 鉄筋工事
B167: 異形棒鋼 | C167: SD295A D10 | D167: 3.7 | E167: t
B169: 異形棒鋼 | C169: SD295A D13 | D169: 4.1 | E169: t
...

Sheet ⑥駐輪場
A1: 名 称 | C1: 摘 要 | D1: 数 量 | E1: 単位 | F1: 単 価 | G1: 金 額 | H1: 備 考
A3: ⑥ | B3: 駐輪場棟
A7: 1 | B7: 直接仮設工事 | D7: 1 | E7: 式
A9: ２ | B9: 土工事 | D9: 1 | E9: 式
A11: ３ | B11: 地業工事 | D11: 1 | E11: 式
A13: ４ | B13: 鉄筋工事 | D13: 1 | E13: 式
A15: ５ | B15: コンクリート工事 | D15: 1 | E15: 式
A17: ６ | B17: 型枠工事 | D17: 1 | E17: 式
A19: ７ | B19: 金属工事 | D19: 1 | E19: 式
A21: ８ | B21: 左官工事 | D21: 1 | E21: 式
A23: ９ | B23: 塗装工事 | D23: 1 | E23: 式
A25: １０ | B25: 仕上ユニット工事 | D25: 1 | E25: 式
B41: 合 計
A43: 1 | B43: 直接仮設工事
B47: やり方 | C47: 隅やり方 | D47: 4 | E47: ヶ所
B49: 墨出し | C49: 躯体 | D49: 21 | E49: m2
B51: 養生 | C51: 躯体 | D51: 21 | E51: m2
B53: 整理清掃後片付け | C53: RC造 | D53: 21 | E53: m2
B81: 計
A83: ２ | B83: 土工事
B87: 根切り | C87: つぼ､布掘り | D87: 19.8 | E87: ｍ3
B89: 床付け | C89: つぼ､布掘り | D89: 19.3 | E89: m2
B91: 埋戻し（B種） | C91: 現場発生土 | D91: 10.5 | E91: ｍ3
C92: ダンプトラック10t積 DID区間なし
B93: 建設発生土運搬費 | C93: バックホウ0.8m3 22.5km以下 | D93: 9.3 | E93: ｍ3
B95: 土工機械運搬費 | C95: ※屋外倉庫棟_流用
B121: 計
A123: ３ | B123: 地業工事
B127: 砕石地業 | C127: 基礎下 再生ｸﾗｯｼｬｰﾗﾝ | D127: 2.1 | E127: ｍ3
B129: 砕石地業 | C129: 土間下 再生ｸﾗｯｼｬｰﾗﾝ | D129: 1.9 | E129: ｍ3
B161: 計
A163: ４ | B163: 鉄筋工事
B167: 異形棒鋼 | C167: SD295A D10 | D167: 0.2 | E167: t
B169: 異形棒鋼 | C169: SD295A D13 | D169: 1.6 | E169: t
B171: 鉄筋加工組立 | C171: 小型構造物 | D171: 1.7 | E171: t
B173: 鉄筋スクラップ控除 | C173: H2 | D173: -0.1 | E173: t
B175: 溶接金網敷き | C175: φ6-100ｘ100 | D175: 19.3 | E175: m2
B201: 計
A203: ５ | B203: コンクリート工事
B207: 普通コンクリート | C207: Fc=24+3N/mm2 SL15 基礎部 | D207: 11.1 | E207: ｍ3
...

Sheet ⑦駐車場
A1: 名 称 | C1: 摘 要 | D1: 数 量 | E1: 単位 | F1: 単 価 | G1: 金 額 | H1: 備 考
A3: ⑦ | B3: 駐車場棟
A7: 1 | B7: 直接仮設工事 | D7: 1 | E7: 式
A9: ２ | B9: 土工事 | D9: 1 | E9: 式
A11: ３ | B11: 地業工事 | D11: 1 | E11: 式
A13: ４ | B13: 鉄筋工事 | D13: 1 | E13: 式
A15: ５ | B15: コンクリート工事 | D15: 1 | E15: 式
A17: ６ | B17: 型枠工事 | D17: 1 | E17: 式
A19: ７ | B19: 仕上ユニット工事 | D19: 1 | E19: 式
B41: 合 計
A43: 1 | B43: 直接仮設工事
B47: やり方 | C47: 隅やり方 | D47: 4 | E47: ヶ所
B49: 墨出し | C49: 躯体 | D49: 44.3 | E49: m2
B51: 養生 | C51: 躯体 | D51: 44.3 | E51: m2
B53: 整理清掃後片付け | C53: RC造 | D53: 44.3 | E53: m2
B81: 計
A83: ２ | B83: 土工事
B87: 根切り | C87: つぼ､布掘り | D87: 10.1 | E87: ｍ3
B89: 床付け | C89: つぼ､布掘り | D89: 3.2 | E89: m2
B91: 埋戻し（B種） | C91: 現場発生土 | D91: 8 | E91: ｍ3
C92: ダンプトラック10t積 DID区間なし
B93: 建設発生土運搬費 | C93: バックホウ0.8m3 22.5km以下 | D93: 2.1 | E93: ｍ3
B95: 土工機械運搬費 | C95: ※屋外倉庫棟_流用
B121: 計
A123: ３ | B123: 地業工事
B127: 砕石地業 | C127: 基礎下 再生ｸﾗｯｼｬｰﾗﾝ | D127: 0.3 | E127: ｍ3
B161: 計
A163: ４ | B163: 鉄筋工事
B167: 異形棒鋼 | C167: SD295A D13 | D167: 0.2 | E167: t
B169: 鉄筋加工組立 | C169: 小型構造物 | D169: 0.2 | E169: t
B201: 計
A203: ５ | B203: コンクリート工事
B207: 普通コンクリート | C207: Fc=24+3N/mm2 SL15 基礎部 | D207: 1.8 | E207: ｍ3
C208: 人力打設
B209: コンクリート打設手間 | C209: 基礎･地中梁ｺﾝｸﾘｰﾄ | D209: 1.8 | E209: ｍ3
B241: 計
A243: ６ | B243: 型枠工事
B247: 普通合板型枠 | C247: 小型構造物用型枠 | D247: 7.9 | E247: ｍ2
B249: 型枠運搬費 | C249: 10t車 | D249: 7.9 | E249: ｍ2
B281: 計
...

Sheet ⑧受水槽棟
A1: 名 称 | C1: 摘 要 | D1: 数 量 | E1: 単位 | F1: 単 価 | G1: 金 額 | H1: 備 考
A3: ⑧ | B3: 受水槽棟
A7: 1 | B7: 直接仮設工事 | D7: 1 | E7: 式
A9: ２ | B9: 土工事 | D9: 1 | E9: 式
A11: ３ | B11: 地業工事 | D11: 1 | E11: 式
A13: ４ | B13: 鉄筋工事 | D13: 1 | E13: 式
A15: ５ | B15: コンクリート工事 | D15: 1 | E15: 式
A17: ６ | B17: 型枠工事 | D17: 1 | E17: 式
A19: ７ | B19: 左官工事 | D19: 1 | E19: 式
B41: 合 計
A43: 1 | B43: 直接仮設工事
B47: やり方 | C47: 隅やり方 | D47: 4 | E47: ヶ所
B49: 墨出し | C49: 躯体 | D49: 21.4 | E49: m2
B51: 養生 | C51: 躯体 | D51: 21.4 | E51: m2
B53: 整理清掃後片付け | C53: RC造 | D53: 21.4 | E53: m2
B81: 計
A83: ２ | B83: 土工事
B87: 根切り | C87: つぼ､布掘り | D87: 14.7 | E87: ｍ3
B89: 床付け | C89: つぼ、布掘り | D89: 23.6 | E89: m2
B91: 埋戻し（B種） | C91: 現場発生土 | D91: 4.7 | E91: ｍ3
C92: ダンプトラック10t積 DID区間なし
B93: 建設発生土運搬費 | C93: バックホウ0.8m3 22.5km以下 | D93: 10 | E93: ｍ3
B95: 土工機械運搬費 | C95: ※屋外倉庫棟_流用
B121: 計
A123: ３ | B123: 地業工事
B127: 砕石地業 | C127: 基礎下 再生ｸﾗｯｼｬｰﾗﾝ | D127: 2.4 | E127: ｍ3
B161: 計
A163: ４ | B163: 鉄筋工事
B167: 異形棒鋼 | C167: SD295A D10 | D167: 0.1 | E167: t
B169: 異形棒鋼 | C169: SD295A D13 | D169: 1.1 | E169: t
B171: 鉄筋加工組立 | C171: 小型構造物 | D171: 1.2 | E171: t
B173: 鉄筋スクラップ控除 | C173: H2 | D173: -0.03 | E173: t
B201: 計
A203: ５ | B203: コンクリート工事
B207: 普通コンクリート | C207: Fc=18N/mm2 SL18 捨てコン | D207: 1.2 | E207: ｍ3
B209: 普通コンクリート | C209: Fc=21N/mm2 SL15 基礎部 | D209: 16 | E209: ｍ3
C210: シュート打設
B211: コンクリート打設手間 | C211: 捨て(基礎下)ｺﾝｸﾘｰﾄ | D211: 1.2 | E211: ｍ3
C212: シュート打設
B213: コンクリート打設手間 | C213: 基礎･地中梁ｺﾝｸﾘｰﾄ | D213: 16 | E213: ｍ3
...

Sheet ⑨外構
A1: 名 称 | C1: 摘 要 | D1: 数 量 | E1: 単位 | F1: 単 価 | G1: 金 額 | H1: 備 考
A3: ⑨ | B3: 外構
A7: １ | B7: 囲障工事 | D7: 1 | E7: 式
A9: ２ | B9: 構内舗装工事 | D9: 1 | E9: 式
A11: ３ | B11: 屋外排水工事 | D11: 1 | E11: 式
A13: ４ | B13: 植栽工事 | D13: 1 | E13: 式
A15: ５ | B15: その他工作物工事 | D15: 1 | E15: 式
B41: 合 計
A43: １ | B43: 囲障工事
B46: YO-1
B47: L型擁壁-1 | C47: L=23,800 | D47: 1 | E47: か所
B48: YO-2
B49: L型擁壁-2 | C49: L=5000 | D49: 1 | E49: か所
B52: MO-1
B53: フェンス門扉-1 | C53: ﾒｯｼｭﾌｪﾝｽ両開き扉 W3000xH1800 基礎別途 | D53: 1 | E53: か所
B54: MO-1
B55: フェンス門扉-1基礎 | D55: 1 | E55: か所
B57: 正門 門扉 | C57: W5000xH1400 両引き 基礎別途 | D57: 1 | E57: か所
B59: 西門 門扉 | C59: W8000xH1400 両引き 防護柵共 基礎別途 | D59: 1 | E59: か所
B61: 南門 門扉 | C61: W5000xH1400 片引き 防護柵共 基礎別途 | D61: 1 | E61: か所
B63: 正門門塀 | C63: H=1500､L=3500+3500 | D63: 1 | E63: か所
B65: 西門門塀 | C65: H=1500､L=5000+5000 | D65: 1 | E65: か所
B67: 南門門塀 | C67: H=1500､L=5070+8100+2400 | D67: 1 | E67: か所
B68: 西門 | C68: ｽﾁｰﾙ製（亜鉛メッキ）H900
B69: 防護柵 | C69: 笠木・支柱＠900・繋ぎ材：FB-9ｘ38 | D69: 6 | E69: ｍ
B70: 南門 | C70: ｽﾁｰﾙ製（亜鉛メッキ）H900
B71: 防護柵 | C71: 笠木・支柱＠900・繋ぎ材：FB-9ｘ38 | D71: 7.5 | E71: ｍ
B72: 西門防護柵 2液形 | C72: メッキ面 B種
B73: ﾎﾟﾘｳﾚﾀﾝｴﾅﾒﾙ塗料塗り(2-UE：細幅) | C73: 錆止塗料塗り B種 現場２回塗り | D73: 19.2 | E73: ｍ
B74: 南門防護柵 2液形 | C74: メッキ面 B種
B75: ﾎﾟﾘｳﾚﾀﾝｴﾅﾒﾙ塗料塗り(2-UE：細幅) | C75: 錆止塗料塗り B種 現場２回塗り | D75: 24 | E75: ｍ
B78: WL-1
B79: ウォール-1 | C79: L=55.70m | D79: 1 | E79: か所
B80: WL-2
B81: ウォール-2 | C81: L=71.10m | D81: 1 | E81: か所
B82: WL-3
B83: ウォール-3 | C83: L=56.70m | D83: 1 | E83: か所
B84: WL-4
B85: ウォール-4 | C85: L=20.00m | D85: 1 | E85: か所
B86: WL-5
...

Sheet ⑩土木
A1: 名 称 | C1: 摘 要 | D1: 数 量 | E1: 単位 | F1: 単 価 | G1: 金 額 | H1: 備 考
A3: ⑩ | B3: 土木工事
A7: １ | B7: 土木工事 | D7: 1 | E7: 式
B41: 計
A43: １ | B43: 土木工事
B44: 新設復旧工 | C44: 歩車道境界縁石 標準ﾌﾞﾛｯｸ | E44: ｍ
D45: 11.8
C46: 歩車道境界縁石 切下ﾌﾞﾛｯｸ | E46: ｍ
D47: 3.6
C48: 歩車道境界縁石 乗入ﾌﾞﾛｯｸ | E48: ｍ
D49: 33
C50: ｱｽﾌｧﾙﾄ舗装(45) | E50: m2
D51: 105
C52: 点字ﾌﾞﾛｯｸ | E52: ｍ
D53: 33
C54: Ｕ側溝復旧 自由勾配型側溝 300*700 | E54: ｍ
D55: 33
C56: 1号ﾎﾞｯｸｽｶﾙﾊﾞｰﾄ工 1500*1000 L=12.0m | E56: 式
D57: 1
C58: 2号ﾎﾞｯｸｽｶﾙﾊﾞｰﾄ工 1500*1000 L=9.0m | E58: 式
D59: 1
C60: 建込簡易土留工 | E60: ｍ
C61: 深さ 2m | D61: 21
C62: 転落防止柵 | E62: ｍ
C63: FE-2 | D63: 8
C64: 転落防止柵Ｒ再塗装 | E64: ｍ
C65: ケレン・塗装仕上げ | D65: 23
B68: 構造物撤去工 | C68: 歩車道境界縁石撤去 標準ﾌﾞﾛｯｸ | E68: ｍ
D69: 36
C70: 歩車道境界縁石撤去 切下ﾌﾞﾛｯｸ | E70: ｍ
D71: 0.6
C72: 歩車道境界縁石撤去 乗入ﾌﾞﾛｯｸ | E72: ｍ
D73: 11.8
C74: ｲﾝﾀｰﾛｯｷﾝｸﾞﾌﾞﾛｯｸ撤去(再設置) 撤去のみ(とりこわし) | E74: m2
C75: 撤去のみ 100m2未満 制約無 夜間無 | D75: 57.7
C76: Ｕ型側溝撤去 | E76: ｍ
D77: 33
C78: ｺﾝｸﾘｰﾄ舗装撤去 | E78: m2
D79: 14.3
C80: 水路撤去 | E80: ｍ
...

Sheet ⑪解体
A1: 名 称 | C1: 摘 要 | D1: 数 量 | E1: 単位 | F1: 単 価 | G1: 金 額 | H1: 備 考
A3: ⑪ | B3: 解体工事
B7: （建築工事）
A9: 1 | B9: 審判室 | D9: 1 | E9: 式
A11: 2 | B11: スコアボード室 | D11: 1 | E11: 式
A13: 3 | B13: 選手ベンチ室(1塁) | D13: 1 | E13: 式
A15: 4 | B15: 選手ベンチ室(3塁) | D15: 1 | E15: 式
A17: 5 | B17: 運動場倉庫 | D17: 1 | E17: 式
A19: 6 | B19: 屋外便所棟 | D19: 1 | E19: 式
A21: 7 | B21: 外構(Ka工事) | D21: 1 | E21: 式
A23: 8 | B23: 外構(Kb工事) | D23: 1 | E23: 式
B27: 小計
B31: （電気設備工事）
A33: 1 | B33: 外構設備 （Ka） | D33: 1 | E33: 式
A35: 2 | B35: 外構設備 （Kb） | D35: 1 | E35: 式
A37: 3 | B37: 仮設工事（弓道場側） | D37: 1 | E37: 式
A39: 4 | B39: 仮設工事（コミュニティセンター） | D39: 1 | E39: 式
A41: 5 | B41: 発生材処理 | D41: 1 | E41: 式
B45: 小計
B49: （機械設備工事）
A51: 1 | B51: ='⑪解体'!B1883 -> 衛生器具機器類撤去工事 | D51: 1 | E51: 式
A53: 2 | B53: ='⑪解体'!B1923 -> 給水設備撤去工事 | D53: 1 | E53: 式
A55: 3 | B55: 仮設給水設備工事 | D55: 1 | E55: 式
A57: 4 | B57: ='⑪解体'!B2003 -> 発生材処理 | D57: 1 | E57: 式
B61: 小計
B79: 計
A83: 1 | B83: 審判室
A87: 1-1 | B87: 直接仮設工事 | D87: 1 | E87: 式
A89: 1-2 | B89: とりこわし | D89: 1 | E89: 式
A91: 1-3 | B91: 発生材処理 | D91: 1 | E91: 式
B119: 計
A123: 1-1 | B123: 直接仮設工事
B127: 枠組本足場(手すり先行方式) | C127: W900 H=12.0未満 | D127: 74.7 | E127: ㎡
B129: 安全手すり(手すり先行方式) | C129: 枠組本足場用 | D129: 24.9 | E129: ｍ
B131: 防音ｼｰﾄ | D131: 74.7 | E131: ㎡
B133: 脚立足場 | C133: 階高4.0m未満 | D133: 41.5 | E133: ㎡
B159: 計
A163: 1-2 | B163: とりこわし
B165: 鉄筋ｺﾝｸﾘｰﾄ撤去 | C165: 基礎 圧砕機主体 | D165: 6.6 | E165: ｍ3
B167: 鉄筋ｺﾝｸﾘｰﾄ撤去 | C167: 地上 圧砕機主体 | D167: 20.2 | E167: ｍ3
...

Sheet 別紙
A1: 名 称 | C1: 摘 要 | D1: 数 量 | E1: 単位 | F1: 単 価 | G1: 金 額 | H1: 備 考
B3: 別紙：金属－１ | C3: 校舎棟 壁 | G3: =ROUNDDOWN(D3*F3,0) -> 0
B5: 軽量鉄骨壁下地 開口部補強
C8: 扉等三方補強
B9: 軽量鉄骨壁下地 開口部補強 | C9: 65形 900ｘ2000程度 | D9: 61 | E9: か所
C10: 扉等三方補強
B11: 軽量鉄骨壁下地 開口部補強 | C11: 65形 1200ｘ2000程度 | D11: 18 | E11: か所
C12: 扉等三方補強
B13: 軽量鉄骨壁下地 開口部補強 | C13: 65形 1800ｘ2000程度 | D13: 4 | E13: か所
C14: 扉等二方補強
B15: 軽量鉄骨壁下地 開口部補強 | C15: 65形 3930ｘ2670 | D15: 1 | E15: か所
C16: 扉等一方補強
B17: 軽量鉄骨壁下地 開口部補強 | C17: 65形 7040 | D17: 1 | E17: か所
C18: ダクト等四方補強
B19: 軽量鉄骨壁下地 開口部補強 | C19: 65形 760ｘ2000 | D19: 1 | E19: か所
C20: ダクト等四方補強
B21: 軽量鉄骨壁下地 開口部補強 | C21: 65形 760ｘ1980 | D21: 1 | E21: か所
C22: ダクト等四方補強
B23: 軽量鉄骨壁下地 開口部補強 | C23: 65形 1300ｘ1000 | D23: 1 | E23: か所
C24: ダクト等四方補強
B25: 軽量鉄骨壁下地 開口部補強 | C25: 65形 5130ｘ1300 | D25: 1 | E25: か所
C26: ダクト等四方補強
B27: 軽量鉄骨壁下地 開口部補強 | C27: 65形 1520ｘ1950 | D27: 1 | E27: か所
C28: ダクト等四方補強
B29: 軽量鉄骨壁下地 開口部補強 | C29: 65形 1220ｘ1950 | D29: 1 | E29: か所
C30: ダクト等四方補強
B31: 軽量鉄骨壁下地 開口部補強 | C31: 65形 1800ｘ1200 | D31: 1 | E31: か所
C32: ダクト等四方補強
B33: 軽量鉄骨壁下地 開口部補強 | C33: 65形 450ｘ900 | D33: 1 | E33: か所
C34: ダクト等四方補強
B35: 軽量鉄骨壁下地 開口部補強 | C35: 65形 1000ｘ1200 | D35: 1 | E35: か所
B41: 計
B43: 別紙：金属－２ | C43: 校舎棟 天井
B45: 軽量鉄骨天井下地 開口部補強
B49: 軽量鉄骨天井下地 開口部補強 | C49: 19形 300ｘ300程度 | D49: =94+133+36 -> 263 | E49: か所
B51: 軽量鉄骨天井下地 開口部補強 | C51: 19形 450ｘ450程度 | D51: =34+25+(4)+474 -> 537 | E51: か所
B53: 軽量鉄骨天井下地 開口部補強 | C53: 19形 600ｘ600程度 | D53: =11+(6+1)+18+2+5 -> 43 | E53: か所
B57: 軽量鉄骨天井下地 開口部補強 | C57: 19形 900ｘ900程度 | D57: =3+(69) -> 72 | E57: か所
B59: 軽量鉄骨天井下地 開口部補強 | C59: 19形 300ｘ1200程度 | D59: =4+6+1+8+4+81+405 -> 509 | E59: か所
B63: 軽量鉄骨天井下地 開口部補強 | C63: 19形 300ｘ2400程度 | D63: 1 | E63: か所
...

Sheet 共通仮設
A1: 名 称 | C1: 摘 要 | D1: 数 量 | E1: 単位 | F1: 単 価 | G1: 金 額 | H1: 備 考
B3: 共通仮設費 | C3: 積み上げ
B7: 万能鋼板② | C7: H=3.0m 17ヶ月 | D7: 80.2 | E7: ｍ
B9: 万能鋼板① | C9: H=3.0m 17ヶ月 | D9: 250 | E9: ｍ
B11: 万能鋼板① | C11: H=3.0m 21ヶ月+盛替え1回 | D11: 112 | E11: ｍ
B13: 万能鋼板① | C13: H=3.0m 21ヶ月+盛替え1回 | D13: 234 | E13: ｍ
B15: シートゲート | C15: W5.4+5.4 21ヶ月+盛替え1回 | D15: 1 | E15: か所
B17: シートゲート | C17: W5.4 21ヶ月 | D17: 1 | E17: か所
B19: 交通誘導員 | D19: 1 | E19: 式
B22: ①校舎棟： | C22: ａ．渡り廊下＋ｂ．目隠し壁下地鉄骨＋ｃ．その他鉄骨
B23: 建方重機損料費 | C23: 10ｔクレーン | D23: 1 | E23: 式
B24: ②体育館棟： | C24: ａ．体育館大屋根鉄骨＋ｂ.ステージ舞台周り鉄骨
B25: 建方重機損料 | C25: ｃ．多目的ホール屋根鉄骨＋ｄ．屋外階段鉄骨 | D25: 1 | E25: 式
C26: ｅ．目隠し壁下地鉄骨＋ｆ．その他鉄骨
C27: 50ｔクレーン
B28: ③屋外倉庫棟
B29: 建方重機損料 | C29: 10ｔクレーン | D29: 1 | E29: 式
B30: ④車寄せ棟
B31: 建方重機損料 | C31: 10ｔクレーン | D31: 1 | E31: 式
B41: 計

Sheet 産廃処分
A1: 名 称 | C1: 摘 要 | D1: 数 量 | E1: 単位 | F1: 単 価 | G1: 金 額 | H1: 備 考
A3: D | B3: 産業廃棄物等処分費
B6: ①校舎棟
B7: 建設発生土処分 | C7: 一般土砂 | D7: ='①校舎棟'!D175 -> 3531 | E7: m3
B8: ①校舎棟
B9: 杭発生土処分 | C9: 建設汚泥 | D9: ='①校舎棟'!D237 -> 1203 | E9: m3
B10: ②体育館棟
B11: 建設発生土処分 | C11: 一般土砂 | D11: ='②体育館棟'!D175 -> 1566 | E11: m3
B12: ②体育館棟
B13: 杭発生土処分 | C13: 建設汚泥 ※注記：校舎等に含む
B14: ③屋外倉庫棟
B15: 建設発生土処分 | C15: 一般土砂 | D15: ='③屋外倉庫'!D95 -> 32.5 | E15: m3
B16: ④車寄せ棟
B17: 建設発生土処分 | C17: 一般土砂 | D17: ='④車寄せ'!D93 -> 13 | E17: m3
B18: ⑤屋外トイレ棟
B19: 建設発生土処分 | C19: 一般土砂 | D19: ='⑤屋外トイレ'!D93 -> 95.3 | E19: m3
B20: ⑥駐輪場棟
B21: 建設発生土処分 | C21: 一般土砂 | D21: ='⑥駐輪場'!D93 -> 9.3 | E21: m3
B22: ⑦駐車場棟
B23: 建設発生土処分 | C23: 一般土砂 | D23: ='⑦駐車場'!D93 -> 2.1 | E23: m3
B24: ⑧受水槽棟
B25: 建設発生土処分 | C25: 一般土砂 | D25: ='⑧受水槽棟'!D93 -> 10 | E25: m3
B26: ⑨外構：囲障工事
B27: 建設発生土処分 | C27: 一般土砂 | D27: ='⑨外構'!D173 -> 95.8 | E27: m3
B28: ⑨外構：構内舗装工事
B29: 建設発生土処分 | C29: 一般土砂
B30: ⑨外構：屋外排水工事
B31: 建設発生土処分 | C31: 一般土砂 | D31: ='⑨外構'!D495 -> 306 | E31: m3
B32: ⑨外構：植栽工事
B33: 建設発生土処分 | C33: 一般土砂
B34: ⑨外構：その他工事
B35: 建設発生土処分 | C35: 一般土砂 | D35: ='⑨外構'!D749 -> 17.6 | E35: m3
B47: 発生材処分 | C47: 無筋コンクリート類 | D47: 514 | E47: m3
B49: 発生材処分 | C49: アスファルト類 | D49: 128 | E49: m3
B51: 発生材処分 | C51: ガラス、陶磁器類 | D51: 2.13 | E51: m3
B53: 発生材処分 | C53: 建設木屑 | D53: =1.4+0.4+0.2+0.2+0.7+0.1+47.3+3.2 -> 53.5 | E53: m3
B55: 発生材処分 | C55: 廃プラスチック類 | D55: 2.07 | E55: m3
B57: 発生材処分 | C57: 非飛散性アスベスト | D57: =0.2+0.04 -> 0.24 | E57: m3
B59: 発生材処分 | C59: 蛍光管・水銀灯 | D59: =(0.18) -> 0.18 | E59: ｔ
B61: （有価物）
...
