Workbook
Name __C370320: [1]資材単価!$I$80
Name __C371625: [1]資材単価!$I$88
Name __C371100: [1]資材単価!$I$85
Name __C370800: [1]資材単価!$I$84
Name __C371640: [1]資材単価!$I$90
Name __C371200: [1]資材単価!$I$86
Name _C300200: [1]資材単価!$I$11
Name __C371650: [1]資材単価!$I$91
Name __C371300: [1]資材単価!$I$87
Name __C371725: [1]資材単価!$I$92
Name 諸経費: [5]細目!$G$47
Name _A: [2]種目!$BS$2
Name __C480900: [1]資材単価!$I$135
Name __C371740: [1]資材単価!$I$94
Name _C370400: [1]資材単価!$I$81
Name _C303800: [1]資材単価!$I$28
Name __C371750: [1]資材単価!$I$95
Name __C481000: [1]資材単価!$I$136
Name _C370135: [1]資材単価!$I$78
Name _C370240: [1]資材単価!$I$79
Name _C370320: [1]資材単価!$I$80
Name _C370500: [1]資材単価!$I$82
Name _C370600: [1]資材単価!$I$83
Name _W: [2]種目!$BS$45
Name _C371100: [1]資材単価!$I$85
Name _C371625: [1]資材単価!$I$88
Name _C371200: [1]資材単価!$I$86
Name _C371300: [1]資材単価!$I$87
Name _C371630: [1]資材単価!$I$89
Name _C371640: [1]資材単価!$I$90
Name _C371650: [1]資材単価!$I$91
Name _C371725: [1]資材単価!$I$92
Name _C480900: [1]資材単価!$I$135
Name _C371730: [1]資材単価!$I$93
Name _C371740: [1]資材単価!$I$94
Name _C371750: [1]資材単価!$I$95
Name _C481000: [1]資材単価!$I$136
Name たく: [3]種目!$A$2:$K$17
Name と: [4]種目!$AD$12:$BO$1236
Name なか: [3]種目!$A$740:$H$740
Name 工事価格: [5]算出!$G$54
Name 工事名称: [5]細目!$B$2
Name 消費税相当額: [5]算出!$G$61
Name 積算価格: [5]算出!$G$63
Name 総合仮設費: [5]算出!$H$29
Name 単価表１: [6]種目!$AD$12:$BO$1230
Name 直接工事費: [5]細目!$H$2
Name __C303800: [1]資材単価!$I$28
Name __C460211: [1]資材単価!$I$129
Name _C370003: [1]資材単価!$I$77
Name 特定工事一覧２: [3]種目!$AD$12:$BO$1236
Name 付加安全費２: [3]種目!$W$6:$AB$50
Name __C371730: [1]資材単価!$I$93
Name __C300200: [1]資材単価!$I$11
Name __C370500: [1]資材単価!$I$82
Name __C370400: [1]資材単価!$I$81
Name __C371630: [1]資材単価!$I$89
Name _C460211: [1]資材単価!$I$129
Name __C370003: [1]資材単価!$I$77
Name __C370135: [1]資材単価!$I$78

Sheet 大項目
H1: 設 計 | I1: 精 査
C4: 工事場所 | D4: 筑後市大字下北島150番地1及び172番地他
C6: 工事名称 | D6: 筑後市再編新設小学校校舎等新築工事（建築工事）
C9: 工 事 費 | G9: 円
A10: 業者名
A11: (所在地)
D12: 工 事 価 格 | I12: 円
A14: (名称・代表者氏名)
D15: 消費税相当額 | I15: 円
A18: 〇 名 称 | C18: 摘 要 | D18: 数量 | E18: 単位 | F18: 単価 | G18: 金 額 | H18: 備 考
B20: 直接工事費
C22: Ａ）新営建築工事 | D22: 1 | E22: 式
C24: Ｂ）屋外付帯工事 | D24: 1 | E24: 式
C26: Ｃ）解体工事 | D26: 1 | E26: 式
C28: Ｄ）産廃等処分費 | D28: 1 | E28: 式
C30: 計
B32: 共 通 費
C36: Ⅰ．共通仮設費 | D36: 1 | E36: 式
C38: Ⅱ．現場管理費 | D38: 1 | E38: 式
C40: Ⅲ．一般管理費等 | D40: 1 | E40: 式
C42: 計
B48: 合計（工事価格） | D48: 1 | E48: 式
B52: 消費税相当額 | D52: 1 | E52: 式
B56: 総合計（工事費） | D56: 1 | E56: 式

Sheet 経費率計算表2
A1: ◇建築工事
A2: 共通仮設費率（計算表） | H2: 現場管理費率（計算表） | O2: 一般管理費率等（計算表）
A3: 新営 | D3: 2066000000 | E3: =#REF! -> #REF! | F3: 元金： | G3: =#REF! -> #REF! | H3: 新営 | K3: 工期： | L3: =#REF! -> #REF! | M3: 元金： | N3: =#REF! -> #REF! | Q3: 元金： | R3: =#REF! -> #REF!
A4: 採用率 | B4: 計算値 | C4: 下限値 | D4: 中間値 | E4: 上限値 | F4: 範囲 | H4: 採用率 | I4: 計算値 | J4: 下限値 | K4: 中間値 | L4: 上限値 | M4: 範囲 | O4: 採用率 | P4: 計算値 | Q4: 範囲
A5: =IF(G3=0,0,IF(F6="○",B6,B5)) -> #REF! | B5: =IF(D5<C5,C5,IF(E5<D5,E5,D5)) -> #REF! | C5: 0.0325 | D5: =ROUND((7.56*((G3/1000)^(-0.1105))*(E3^0.2388))/100,4) -> #REF! | E5: 0.0433 | F5: =IF(G3<=10000000,"○","×") -> #REF! | G5: １千万円以下 | H5: =IF(N3=0,0,IF(M6="○",I6,I5)) -> #REF! | I5: =IF(K5<J5,J5,IF(L5<K5,L5,K5)) -> #REF! | J5: 0.1001 | K5: =ROUND((151.08*((N3/1000)^(-0.3396))*(L3^0.586))/100,4) -> #REF! | L5: 0.2013 | M5: =IF(N3<=10000000,"○","×") -> #REF! | N5: １千万円以下 | O5: =IF(Q5="○",P5,IF(Q7="○",P7,IF(Q9="○",P9,0))) -> #REF! | P5: 0.1724 | Q5: =IF(R3<=5000000,"○","×") -> #REF! | R5: 500万円以下
B6: =IF(D6<C6,C6,IF(E6<D6,E6,D6)) -> #REF! | C6: =ROUND((4.34*((G3/1000)^(-0.0313)))/100,4) -> #REF! | D6: =ROUND((7.56*((G3/1000)^(-0.1105))*(E3^0.2388))/100,4) -> #REF! | E6: =ROUND((5.78*((G3/1000)^(-0.0313)))/100,4) -> #REF! | F6: =IF(G3>10000000,"○","×") -> #REF! | G6: １千万円を超える | I6: =IF(K6<J6,J6,IF(L6<K6,L6,K6)) -> #REF! | J6: =ROUND((37.76*((N3/1000)^(-0.1442)))/100,4) -> #REF! | K6: =ROUND((151.08*((N3/1000)^(-0.3396))*(L3^0.586))/100,4) -> #REF! | L6: =ROUND((75.97*((N3/1000)^(-0.1442)))/100,4) -> #REF! | M6: =IF(N3>10000000,"○","×") -> #REF! | N6: １千万円を超える
A7: 改修 | D7: 工期： | E7: =#REF! -> #REF! | F7: 元金： | G7: =#REF! -> #REF! | H7: 改修 | K7: 工期： | L7: =#REF! -> #REF! | M7: 元金： | N7: =#REF! -> #REF! | P7: =ROUND((28.978-3.173*LOG(R3/1000))/100,4) -> #REF! | Q7: =IF(AND(5000000<R3,R3<=3000000000),"○","×") -> #REF! | R7: 500万円を超え 30億円以下
A8: 採用率 | B8: 計算値 | C8: 下限値 | D8: 中間値 | E8: 上限値 | F8: 範囲 | H8: 採用率 | I8: 計算値 | J8: 下限値 | K8: 中間値 | L8: 上限値 | M8: 範囲
A9: =IF(G7=0,0,IF(F10="○",B10,B9)) -> #REF! | B9: =IF(D9<C9,C9,IF(E9<D9,E9,D9)) -> #REF! | C9: 0.0359 | D9: =ROUND((18.03*((G7/1000)^(-0.2027))*(E7^0.4017))/100,4) -> #REF! | E9: 0.0607 | F9: =IF(G7<=5000000,"○","×") -> #REF! | G9: ー | H9: =IF(N7=0,0,IF(M10="○",I10,I9)) -> #REF! | I9: =IF(K9<J9,J9,IF(L9<K9,L9,K9)) -> #REF! | J9: 0.127 | K9: =ROUND((356.2*((N7/1000)^(-0.4085))*(L7^0.5766))/100,4) -> #REF! | L9: 0.2686 | M9: =IF(N7<=5000000,"○","×") -> #REF! | N9: 500万円以下 | P9: 0.0843 | Q9: =IF(3000000000<=R3,"○","×") -> #REF! | R9: 30億円を超える
B10: =IF(D10<C10,C10,IF(E10<D10,E10,D10)) -> #REF! | C10: =ROUND((6.94*((G7/1000)^(-0.0774)))/100,4) -> #REF! | D10: =ROUND((18.03*((G7/1000)^(-0.2027))*(E7^0.4017))/100,4) -> #REF! | E10: =ROUND((11.74*((G7/1000)^(-0.0774)))/100,4) -> #REF! | F10: =IF(G7>5000000,"○","×") -> #REF! | G10: 500万円を超える | I10: =IF(K10<J10,J10,IF(L10<K10,L10,K10)) -> #REF! | J10: =ROUND((87.29*((N7/1000)^(-0.2263)))/100,4) -> #REF! | K10: =ROUND((356.2*((N7/1000)^(-0.4085))*(L7^0.5766))/100,4) -> #REF! | L10: =ROUND((184.58*((N7/1000)^(-0.2263)))/100,4) -> #REF! | M10: =IF(N7>5000000,"○","×") -> #REF! | N10: 500万円を超える
A11: ◇電気工事
A12: 共通仮設費率（計算表） | H12: 現場管理費率（計算表） | O12: 一般管理費率等（計算表）
A13: 新営 | D13: 工期： | E13: =#REF! -> #REF! | F13: 元金： | G13: =#REF! -> #REF! | H13: 新営 | K13: 工期： | L13: =#REF! -> #REF! | M13: 元金： | N13: =#REF! -> #REF! | Q13: 元金： | R13: =#REF! -> #REF!
A14: 採用率 | B14: 計算値 | C14: 下限値 | E14: 上限値 | F14: 範囲 | H14: 採用率 | I14: 計算値 | J14: 下限値 | K14: 中間値 | L14: 上限値 | M14: 範囲 | O14: 採用率 | P14: 計算値 | Q14: 範囲
A15: =IF(G13=0,0,IF(F16="○",B16,B15)) -> #REF! | B15: =IF(D15<C15,C15,IF(E15<D15,E15,D15)) -> #REF! | C15: 0.039 | D15: =ROUND((22.89*((G13/1000)^(-0.2462))*(E13^0.41))/100,4) -> #REF! | E15: 0.0719 | F15: =IF(G13<=5000000,"○","×") -> #REF! | G15: 500万円以下 | H15: =IF(N13=0,0,IF(M16="○",I16,I15)) -> #REF! | I15: =IF(K15<J15,J15,IF(L15<K15,L15,K15)) -> #REF! | J15: 0.2291 | K15: =ROUND((351.48*((N13/1000)^(-0.3528))*(L13^0.3524))/100,4) -> #REF! | L15: 0.386 | M15: =IF(N13<=5000000,"○","×") -> #REF! | N15: 500万円以下 | O15: =IF(Q15="○",P15,IF(Q17="○",P17,IF(Q19="○",P19,0))) -> #REF! | P15: 0.1749 | Q15: =IF(R13<=3000000,"○","×") -> #REF! | R15: 300万円以下
B16: =IF(D16<C16,C16,IF(E16<D16,E16,D16)) -> #REF! | C16: =ROUND((9.08*((G13/1000)^(-0.0992)))/100,4) -> #REF! | D16: =ROUND((22.89*((G13/1000)^(-0.2462))*(E13^0.41))/100,4) -> #REF! | E16: =ROUND((16.73*((G13/1000)^(-0.0992)))/100,4) -> #REF! | F16: =IF(G13>5000000,"○","×") -> #REF! | G16: 500万円を超える | I16: =IF(K16<J16,J16,IF(L16<K16,L16,K16)) -> #REF! | J16: =ROUND((156.07*((N13/1000)^(-0.2253)))/100,4) -> #REF! | K16: =ROUND((351.48*((N13/1000)^(-0.3528))*(L13^0.3524))/100,4) -> #REF! | L16: =ROUND((263.03*((N13/1000)^(-0.2253)))/100,4) -> #REF! | M16: =IF(N13>5000000,"○","×") -> #REF! | N16: 500万円を超える
A17: 改修 | D17: 工期： | E17: =#REF! -> #REF! | F17: 元金： | G17: =#REF! -> #REF! | H17: 改修 | K17: 工期： | L17: =#REF! -> #REF! | M17: 元金： | N17: =#REF! -> #REF! | P17: =ROUND((29.102-3.34*LOG(R13/1000))/100,4) -> #REF! | Q17: =IF(AND(3000000<R13,R13<=2000000000),"○","×") -> #REF! | R17: 300万円を超え 20億円以下
A18: 採用率 | B18: 計算値 | C18: 下限値 | D18: 中間値 | E18: 上限値 | F18: 範囲 | H18: 採用率 | I18: 計算値 | J18: 下限値 | K18: 中間値 | L18: 上限値 | M18: 範囲
A19: =IF(G17=0,0,IF(F20="○",B20,B19)) -> #REF! | B19: =IF(D19<C19,C19,IF(E19<D19,E19,D19)) -> #REF! | C19: 0.0359 | D19: =ROUND((10.15*((G17/1000)^(-0.2462))*(E17^0.6929))/100,4) -> #REF! | E19: 0.0521 | F19: =IF(G17<=3000000,"○","×") -> #REF! | G19: 300万円以下 | H19: =IF(N17=0,0,IF(M20="○",I20,I19)) -> #REF! | I19: =IF(K19<J19,J19,IF(L19<K19,L19,K19)) -> #REF! | J19: 0.1767 | K19: =ROUND((658.42*((N17/1000)^(-0.4896))*(L17^0.7247))/100,4) -> #REF! | L19: 0.5037 | M19: =IF(N17<=3000000,"○","×") -> #REF! | N19: 300万円以下 | P19: 0.0806 | Q19: =IF(2000000000<=R13,"○","×") -> #REF! | R19: 20億円を超える
B20: =IF(D20<C20,C20,IF(E20<D20,E20,D20)) -> #REF! | C20: =ROUND((3.1*((G17/1000)^(-0.0608)))/100,4) -> #REF! | D20: =ROUND((10.15*((G17/1000)^(-0.2462))*(E17^0.6929))/100,4) -> #REF! | E20: =ROUND((8.47*((G17/1000)^(-0.0608)))/100,4) -> #REF! | F20: =IF(G17>3000000,"○","×") -> #REF! | G20: 300万円を超える | I20: =IF(K20<J20,J20,IF(L20<K20,L20,K20)) -> #REF! | J20: =ROUND((186.18*((N17/1000)^(-0.2941)))/100,4) -> #REF! | K20: =ROUND((658.42*((N17/1000)^(-0.4896))*(L17^0.7247))/100,4) -> #REF! | L20: =ROUND((530.68*((N17/1000)^(-0.2941)))/100,4) -> #REF! | M20: =IF(N17>3000000,"○","×") -> #REF! | N20: 300万円を超える
A21: ◇機械工事
A22: 共通仮設費率（計算表） | H22: 現場管理費率（計算表） | O22: 一般管理費率等（計算表）
A23: 新営 | D23: 工期： | E23: =#REF! -> #REF! | F23: 元金： | G23: =#REF! -> #REF! | H23: 新営 | K23: 工期： | L23: =#REF! -> #REF! | M23: 元金： | N23: =#REF! -> #REF! | Q23: 元金： | R23: =#REF! -> #REF!
A24: 採用率 | B24: 計算値 | C24: 下限値 | D24: 中間値 | E24: 上限値 | F24: 範囲 | H24: 採用率 | I24: 計算値 | J24: 下限値 | K24: 中間値 | L24: 上限値 | M24: 範囲 | O24: 採用率 | P24: 計算値 | Q24: 範囲
A25: =IF(G23=0,0,IF(F26="○",B26,B25)) -> #REF! | B25: =IF(D25<C25,C25,IF(E25<D25,E25,D25)) -> #REF! | C25: 0.0486 | D25: =ROUND((12.15*((G23/1000)^(-0.1186))*(E23^0.0882))/100,4) -> #REF! | E25: 0.0551 | F25: =IF(G23<=5000000,"○","×") -> #REF! | G25: 500万円以下 | H25: =IF(N23=0,0,IF(M26="○",I26,I25)) -> #REF! | I25: =IF(K25<J25,J25,IF(L25<K25,L25,K25)) -> #REF! | J25: 0.1714 | K25: =ROUND((152.72*((N23/1000)^(-0.3085))*(L23^0.4222))/100,4) -> #REF! | L25: 0.3123 | M25: =IF(N23<=5000000,"○","×") -> #REF! | N25: 500万円以下 | O25: =IF(Q25="○",P25,IF(Q27="○",P27,IF(Q29="○",P29,0))) -> #REF! | P25: 0.1668 | Q25: =IF(R23<=3000000,"○","×") -> #REF! | R25: 300万円以下
B26: =IF(D26<C26,C26,IF(E26<D26,E26,D26)) -> #REF! | C26: =ROUND((10.94*((G23/1000)^(-0.0952)))/100,4) -> #REF! | D26: =ROUND((12.15*((G23/1000)^(-0.1186))*(E23^0.0882))/100,4) -> #REF! | E26: =ROUND((12.4*((G23/1000)^(-0.0952)))/100,4) -> #REF! | F26: =IF(G23>5000000,"○","×") -> #REF! | G26: 500万円を超える | I26: =IF(K26<J26,J26,IF(L26<K26,L26,K26)) -> #REF! | J26: =ROUND((90.67*((N23/1000)^(-0.1956)))/100,4) -> #REF! | K26: =ROUND((152.72*((N23/1000)^(-0.3085))*(L23^0.4222))/100,4) -> #REF! | L26: =ROUND((165.22*((N23/1000)^(-0.1956)))/100,4) -> #REF! | M26: =IF(N23>5000000,"○","×") -> #REF! | N26: 500万円を超える
A27: 改修 | D27: 工期： | E27: =#REF! -> #REF! | F27: 元金： | G27: =#REF! -> #REF! | H27: 改修 | K27: 工期： | L27: =#REF! -> #REF! | M27: 元金： | N27: =#REF! -> #REF! | P27: =ROUND((27.283-3.049*LOG(R23/1000))/100,4) -> #REF! | Q27: =IF(AND(3000000<R23,R23<=2000000000),"○","×") -> #REF! | R27: 300万円を超え 20億円以下
A28: 採用率 | B28: 計算値 | C28: 下限値 | D28: 中間値 | E28: 上限値 | F28: 範囲 | H28: 採用率 | I28: 計算値 | J28: 下限値 | K28: 中間値 | L28: 上限値 | M28: 範囲
A29: =IF(G27=0,0,IF(F30="○",B30,B29)) -> #REF! | B29: =IF(D29<C29,C29,IF(E29<D29,E29,D29)) -> #REF! | C29: 0.0173 | D29: =ROUND((12.21*((G27/1000)^(-0.2596))*(E27^0.6874))/100,4) -> #REF! | E29: 0.0496 | F29: =IF(G27<=3000000,"○","×") -> #REF! | G29: 300万円以下 | H29: =IF(N27=0,0,IF(M30="○",I30,I29)) -> #REF! | I29: =IF(K29<J29,J29,IF(L29<K29,L29,K29)) -> #REF! | J29: 0.1525 | K29: =ROUND((825.85*((N27/1000)^(-0.5122))*(L27^0.6648))/100,4) -> #REF! | L29: 0.4207 | M29: =IF(N27<=3000000,"○","×") -> #REF! | N29: 300万円以下 | P29: 0.0807 | Q29: =IF(2000000000<=R23,"○","×") -> #REF! | R29: 20億円を超える
B30: =IF(D30<C30,C30,IF(E30<D30,E30,D30)) -> #REF! | C30: =ROUND((2.44*((G27/1000)^(-0.0433)))/100,4) -> #REF! | D30: =ROUND((12.21*((G27/1000)^(-0.2596))*(E27^0.6874))/100,4) -> #REF! | E30: =ROUND((7.02*((G27/1000)^(-0.0433)))/100,4) -> #REF! | F30: =IF(G27>3000000,"○","×") -> #REF! | G30: 300万円を超える | I30: =IF(K30<J30,J30,IF(L30<K30,L30,K30)) -> #REF! | J30: =ROUND((169.65*((N27/1000)^(-0.3009)))/100,4) -> #REF! | K30: =ROUND((825.85*((N27/1000)^(-0.5122))*(L27^0.6648))/100,4) -> #REF! | L30: =ROUND((467.95*((N27/1000)^(-0.3009)))/100,4) -> #REF! | M30: =IF(N27>3000000,"○","×") -> #REF! | N30: 300万円を超える
A31: ◇昇降機工事
A32: 共通仮設費率（計算表） | H32: 現場管理費率（計算表） | O32: 一般管理費率等（計算表）
A33: 新営 | D33: 工期： | E33: =#REF! -> #REF! | F33: 元金： | G33: =#REF! -> #REF! | H33: 新営 | K33: 工期： | L33: =#REF! -> #REF! | M33: 元金： | N33: =#REF! -> #REF! | Q33: 元金： | R33: =#REF! -> #REF!
D34: 採用率 | E34: 計算値 | F34: 範囲 | K34: 採用率 | L34: 計算値 | M34: 範囲 | O34: 採用率 | P34: 計算値 | Q34: 範囲
D35: =IF(F35="○",E35,IF(F37="○",E37,IF(F39="○",E39,0))) -> #REF! | E35: 0.0308 | F35: =IF(G33<=10000000,"○","×") -> #REF! | G35: 1000万円以下 | K35: =IF(M35="○",L35,IF(M37="○",L37,IF(M39="○",L39,0))) -> #REF! | L35: 0.0398 | M35: =IF(N33<=10000000,"○","×") -> #REF! | N35: 1000万円以下 | O35: =IF(Q35="○",P35,IF(Q37="○",P37,IF(Q39="○",P39,0))) -> #REF! | P35: 0.1668 | Q35: =IF(R33<=3000000,"○","×") -> #REF! | R35: 300万円以下
E37: =ROUND((7.89*(G33/1000)^(-0.1021))/100,4) -> #REF! | F37: =IF(AND(10000000<G33,G33<=500000000),"○","×") -> #REF! | G37: 1000万円を超え 5億円以下 | L37: =ROUND((15.1*(N33/1000)^(-0.1449))/100,4) -> #REF! | M37: =IF(AND(10000000<N33,N33<=500000000),"○","×") -> #REF! | N37: 1000万円を超え 5億円以下 | P37: =ROUND((27.283-3.049*LOG(R33/1000))/100,4) -> #REF! | Q37: =IF(AND(3000000<R33,R33<=2000000000),"○","×") -> #REF! | R37: 300万円を超え 20億円以下
E39: 0.0207 | F39: =IF(500000000<=G33,"○","×") -> #REF! | G39: 5億円を超える | L39: 0.0226 | M39: =IF(500000000<=N33,"○","×") -> #REF! | N39: 5億円を超える | P39: 0.0807 | Q39: =IF(2000000000<=R33,"○","×") -> #REF! | R39: 20億円を超える

Sheet 種目別
A1: 〇 名 称 | C1: 摘 要 | D1: 数 量 | E1: 単位 | F1: 単 価 | G1: 金 額 | H1: 備 考
A3: Ａ) | B3: 新営建築工事
A5: ① | B5: 校舎棟 | D5: 1 | E5: 式
A7: ② | B7: 体育館棟 | D7: 1 | E7: 式
A9: ③ | B9: 屋外倉庫棟 | D9: 1 | E9: 式
A11: ④ | B11: 車寄せ棟 | D11: 1 | E11: 式
A13: ⑤ | B13: 屋外トイレ棟 | D13: 1 | E13: 式
A15: ⑥ | B15: 駐輪場棟 | D15: 1 | E15: 式
A17: ⑦ | B17: 駐車場棟 | D17: 1 | E17: 式
A19: ⑧ | B19: 受水槽棟 | D19: 1 | E19: 式
B21: 小 計
A23: Ｂ） | B23: 屋外付帯工事
A25: ⑨ | B25: 外構 | D25: 1 | E25: 式
A27: ⑩ | B27: 土木工事 | D27: 1 | E27: 式
B29: 小 計
A31: Ｃ） | B31: 解体工事
A33: ⑪ | B33: 解体工事 | D33: 1 | E33: 式
A35: D） | B35: 産廃処分費
A37: ⑫ | B37: 産業廃棄物処分費 | D37: 1 | E37: 式
B41: 計

Sheet ①校舎棟
A1: 名 称 | C1: 摘 要 | D1: 数 量 | E1: 単位 | F1: 単 価 | G1: 金 額 | H1: 備 考
A3: ① | B3: 校舎棟
A7: 1 | B7: 直接仮設工事 | D7: 1 | E7: 式
A9: ２ | B9: 土工事 | D9: 1 | E9: 式
A11: ３ | B11: 地業工事 | D11: 1 | E11: 式
A13: ４ | B13: 鉄筋工事 | D13: 1 | E13: 式
A15: ５ | B15: コンクリート工事 | D15: 1 | E15: 式
A17: ６ | B17: 型枠工事 | D17: 1 | E17: 式
A19: ７ | B19: 鉄骨工事 | D19: 1 | E19: 式
A21: ８ | B21: 防水工事 | D21: 1 | E21: 式
A23: ９ | B23: 石工事 | D23: 1 | E23: 式
A25: １０ | B25: タイル工事 | D25: 1 | E25: 式
A27: １１ | B27: 木工事 | D27: 1 | E27: 式
A29: １２ | B29: 屋根及びとい工事 | D29: 1 | E29: 式
... A49: ２２ | B49: 昇降設備工事 | D49: 1 | E49: 式
B81: 合 計
A83: 1 | B83: 直接仮設工事
B87: やり方 | C87: RC造 | D87: 4100 | E87: ｍ2
B89: 墨出し | C89: RC造 地上部 | D89: 7149 | E89: ｍ2
B91: 養生 | C91: RC造 地上部 | D91: 7149 | E91: ｍ2
B93: 整理清掃後片付け | C93: RC造 地上部 | D93: 7149 | E93: ｍ2
B97: 墨出し | C97: RC造 大規模ピット | D97: 2164 | E97: m2
B99: 養生 | C99: RC造 大規模ピット | D99: 2164 | E99: m2
B101: 整理清掃後片付け | C101: RC造 大規模ピット | D101: 2164 | E101: m2
B105: 地足場 | C105: ４週間 運搬費共 | D105: 4100 | E105: ｍ2
C106: 枠組本足場（手すり先行方式）建枠900x1700 布枠500+240
B107: 外部足場 | C107: 高さ12m未満 6.5ヶ月 運搬費共 | D107: 5089 | E107: ｍ2
C108: 枠組棚足場
B109: 外部足場 | C109: 階高4.0m超5.0m未満 6.5ヶ月 運搬費共 | D109: 855 | E109: ｍ2
C110: 枠組棚足場
B111: 外部足場 | C111: 階高7.4m以上9.1m未満 6.5ヶ月 運搬費共 | D111: 227 | E111: ｍ2
B113: 災害防止（防音ｼｰﾄ） | C113: 6.5ヶ月 運搬費共 | D113: 5089 | E113: ｍ2
C116: 躯体支保工
B117: 外部躯体足場 | C117: 階高7.4m以上9.1m未満 1ヶ月 運搬費共 | D117: 227 | E117: m2
C118: 鉄筋型枠足場
B119: 内部躯体足場 | C119: 階高4.0m超5.0m未満 1ヶ月 運搬費共 | D119: 5260 | E119: m2
C120: 鉄筋型枠足場
B121: 内部躯体足場 | C121: 階高5.0m以上5.7m未満 1ヶ月 運搬費共 | D121: 128 | E121: m2
C122: 躯体支保工
B123: 内部躯体足場 | C123: 階高7.4m以上9.1m未満 1ヶ月 運搬費共 | D123: 64 | E123: m2
C126: 枠組棚足場
B127: 内部仕上足場 | C127: 階高4.0m以上5.0m未満 1ヶ月 運搬費共 | D127: 6763 | E127: ｍ2
C128: 枠組棚足場
B129: 内部仕上足場 | C129: 階高4.0m以上5.0m未満 1ヶ月 運搬費共 | D129: 128 | E129: ｍ2
C130: 枠組棚足場
B131: 内部仕上足場 | C131: 階高7.4m以上9.1m未満 1ヶ月 運搬費共 | D131: 64 | E131: ｍ2
B135: 階段仕上足場 | C135: 単管使用 1ヶ月 運搬費共 | D135: 180 | E135: ｍ2
B137: シャフト内足場 | C137: 一連 1ヶ月 運搬費共 | D137: 50 | E137: ｍ3
B141: 鉄骨足場 | C141: 吊棚足場 1ヶ月 運搬費共 | D141: 23.5 | E141: m2
B143: 災害防止（水平養生） | C143: 水平養生ネット 1ヶ月 運搬費共 | D143: 23.5 | E143: m2
B161: 計
A163: ２ | B163: 土工事
B167: 根切り | C167: つぼ､布掘り | D167: 5207 | E167: ｍ3
B169: 床付け | C169: つぼ､布掘り | D169: 3036 | E169: ｍ2
B171: 埋戻し（B種） | C171: 現場発生土 | D171: 1474 | E171: ｍ3
B173: 盛 土（B種） | C173: 現場発生土 | D173: 202 | E173: ｍ3
C174: ダンプトラック10t積 DID区間なし
B175: 建設発生土運搬費 | C175: バックホウ0.8m3 22.5km以下 | D175: 3531 | E175: ｍ3
B177: 土工機械運搬費 | D177: 1 | E177: 式
B181: 杭間ざらい | D181: 94 | E181: 本
B201: 計
A203: ３ | B203: 地業工事
B205: （一般地業）
B207: 砕石地業 | C207: 基礎下 再生ｸﾗｯｼｬｰﾗﾝ | D207: 253 | E207: ｍ3
B209: 砕石地業 | C209: 土間下 再生ｸﾗｯｼｬｰﾗﾝ | D209: 68.1 | E209: ｍ3
B211: 床下防湿シート敷 | C211: ﾎﾟﾘｴﾁﾚﾝﾌｨﾙﾑ t=0.15 | D211: 1364 | E211: ｍ2
B213: 床下断熱材敷 | C213: ﾎﾟﾘｽﾁﾚﾝﾌｫｰﾑ t=25 | D213: 1159 | E213: ｍ2
B217: （既成コンクリート杭）
B218: P1杭 | C218: 上杭:φ700 CPRC105-Ⅰ L=7.0m(PRC=6.0m)
B219: ＰＨＣパイル | C219: 下杭:φ7090 HF-ONA105-A1 L=7.0m | D219: 8 | E219: 本
B220: P2杭 | C220: 上杭:φ600 CPRC105-Ⅰ L=7.0m(PRC=6.0m)
B221: ＰＨＣパイル | C221: 下杭:φ6080 HF-ONA105-A1 L=7.0m | D221: 20 | E221: 本
B222: P3杭 | C222: 上杭:φ500 CPRC-Ⅳ L=7.0m(PRC=6.0m)
B223: ＰＨＣパイル | C223: 下杭:φ5070 HF-ONA105-A1 L=7.0m | D223: 24 | E223: 本
B224: P4杭 | C224: 上杭:φ600 CPRC105-Ⅳ L=7.0m(PRC=6.0m)
B225: ＰＨＣパイル | C225: 下杭:φ4560 HF-ONA105-A1 L=7.0m | D225: 44 | E225: 本
B226: P5杭 | C226: 上杭:φ600 HiSC(t=9.0)SKK490 L=7.0m
B227: ＰＨＣパイル | C227: 下杭:φ4560 HF-ONA105-B1 L=7.0m | D227: 6 | E227: 本
B229: 杭荷下ろし料 | D229: 1 | E229: 式
C230: Hyper-MEGA工法
B231: 杭施工費 | C231: 杭継手:T･P JOINT(ﾄﾘﾌﾟﾙﾌﾟﾚｰﾄｼﾞｮｲﾝﾄ）同等以上 | D231: 1 | E231: 式
B233: （発生土処分） | C233: ※体育館棟も含む
B235: 杭発生土積込み | C235: バックホウ0.8m3 | D235: 1203 | E235: m3
C236: ダンプトラック10t積 DID区間なし
B237: 杭発生土運搬 | C237: バックホウ0.8m3 22.5km以下 | D237: =D235 -> 1203 | E237: m3
B243: （杭頭補強）
C244: ﾊﾟｲﾙｽﾀｯﾄﾞ工法
B245: 杭頭補強 | C245: SD345 D25 L=1000mm | D245: 704 | E245: 本
C246: ﾊﾟｲﾙｽﾀｯﾄﾞ工法
B247: 杭頭補強 | C247: SD345 D22 L=900mm | D247: 736 | E247: 本
C248: 外周溶接
B249: 杭頭補強 | C249: SD390 D29 L=1310mm | D249: 96 | E249: 本
B255: （止め型枠）
B257: 杭頭閉塞具 | C257: φ700用 | D257: 8 | E257: か所
B259: 杭頭閉塞具 | C259: φ600用 | D259: 70 | E259: か所
B261: 杭頭閉塞具 | C261: φ500用 | D261: 24 | E261: か所
B281: 計
A283: ４ | B283: 鉄筋工事
B287: 異形棒鋼 | C287: SD295A D10 | D287: 195 | E287: t
B289: 異形棒鋼 | C289: SD295A D13 | D289: 207 | E289: t
...

Sheet ②体育館棟
A1: 名 称 | C1: 摘 要 | D1: 数 量 | E1: 単位 | F1: 単 価 | G1: 金 額 | H1: 備 考
A3: ② | B3: 体育館棟
A7: 1 | B7: 直接仮設工事 | D7: 1 | E7: 式
A9: 2 | B9: 土工事 | D9: 1 | E9: 式
A11: 3 | B11: 地業工事 | D11: 1 | E11: 式
A13: 4 | B13: 鉄筋工事 | D13: 1 | E13: 式
A15: 5 | B15: コンクリート工事 | D15: 1 | E15: 式
A17: 6 | B17: 型枠工事 | D17: 1 | E17: 式
A19: 7 | B19: 鉄骨工事 | D19: 1 | E19: 式
A21: 8 | B21: 既製コンクリート工事 | D21: 1 | E21: 式
A23: 9 | B23: 防水工事 | D23: 1 | E23: 式
A25: 10 | B25: 石工事 | D25: 1 | E25: 式
A27: 11 | B27: タイル工事 | D27: 1 | E27: 式
A29: 12 | B29: 木工事 | D29: 1 | E29: 式
... A49: 22 | B49: 昇降設備工事 | D49: 1 | E49: 式
B81: 合 計
A83: 1 | B83: 直接仮設工事
B87: やり方 | C87: RC造 | D87: 2214 | E87: m2
B89: 墨出し | C89: RC造 地上部 | D89: 3570 | E89: m2
B91: 養生 | C91: RC造 地上部 | D91: 3570 | E91: m2
B93: 整理清掃後片付け | C93: RC造 地上部 | D93: 3570 | E93: m2
B97: 墨出し | C97: RC造 大規模ピット | D97: 996 | E97: m2
B99: 養生 | C99: RC造 大規模ピット | D99: 996 | E99: m2
B101: 整理清掃後片付け | C101: RC造 大規模ピット | D101: 996 | E101: m2
B105: 地足場 | C105: ４週間 運搬費共 | D105: 2214 | E105: ｍ2
C106: 枠組本足場（手すり先行方式） 建枠 900×1700 布枠500+240
B107: 外部足場 | C107: 高さ12m未満 5.5ヶ月 手摺・運搬費共 | D107: 2862 | E107: m2
C108: 枠組本足場（手すり先行方式） 建枠 900×1700 布枠500+240
B109: 外部足場（傾斜壁部） | C109: 高さ12m未満 5.5ヶ月 手摺・運搬費共 | D109: 525 | E109: m2
B111: 災害防止（防音シート） | C111: 5.5ヶ月 運搬費共 | D111: 3387 | E111: m2
C114: 躯体支保工
B115: 外部躯体足場 | C115: 階高5.7ｍ以上7.4ｍ未満 運搬費共 | D115: 61.7 | E115: m2
C116: 躯体支保工
B117: 外部躯体足場 | C117: 階高7.4ｍ以上9.1ｍ未満 運搬費共 | D117: 105 | E117: m2
C118: 鉄筋型枠足場
B119: 内部躯体足場 | C119: 階高4.0ｍ超5.0ｍ未満 運搬費共 | D119: 1170 | E119: m2
C120: 躯体支保工
B121: 内部躯体足場 | C121: 階高5.0ｍ以上5.7ｍ未満 運搬費共 | D121: 39.3 | E121: m2
C122: 躯体支保工
B123: 内部躯体足場 | C123: 階高5.7ｍ以上7.4ｍ未満 運搬費共 | D123: 258 | E123: m2
C124: 躯体支保工
B125: 内部躯体足場 | C125: 階高7.4ｍ以上9.1ｍ未満 運搬費共 | D125: 556 | E125: m2
C128: 脚立足場
B129: 外部仕上足場 | C129: 階高4.0m以下 運搬費共 | D129: 24.6 | E129: ㎡
C130: 枠組棚足場
B131: 外部仕上足場 | C131: 階高4.0m超5.0m未満 運搬費共 | D131: 250 | E131: ㎡
C132: 枠組棚足場
B133: 外部仕上足場 | C133: 階高5.7m以上7.4m未満 運搬費共 | D133: 61.7 | E133: ㎡
C134: 枠組棚足場
B135: 外部仕上足場 | C135: 階高7.4m以上9.1m未満 運搬費共 | D135: 105 | E135: ㎡
C138: 枠組棚足場
B139: 内部仕上足場 | C139: 階高4.0m超5.0m未満 運搬費共 | D139: 2016 | E139: ㎡
C140: 枠組棚足場
B141: 内部仕上足場 | C141: 階高5.0m以上5.7m未満 運搬費共 | D141: 39.3 | E141: ㎡
C142: 枠組棚足場
B143: 内部仕上足場 | C143: 階高5.7m以上7.4m未満 運搬費共 | D143: 197 | E143: ㎡
C144: 枠組棚足場
B145: 内部仕上足場 | C145: 階高7.4m以上9.1m未満 運搬費共 | D145: 452 | E145: ㎡
C146: 枠組棚足場
B147: 内部仕上足場 | C147: 階高10.8m以上12.5m未満 運搬費共 | D147: 1054 | E147: ㎡
B149: 階段仕上足場 | C149: 単管使用 運搬費共 | D149: 19.9 | E149: ㎡
B151: シャフト内足場 | C151: 一連 運搬費共 | D151: 34.5 | E151: ｍ3
B155: 鉄骨足場 | C155: 吊棚足場 運搬費共 | D155: 1133 | E155: m2
B157: 災害防止（水平養生） | C157: 水平安全ネット 運搬費共 | D157: 1133 | E157: m2
B161: 計
A163: ２ | B163: 土工事
B167: 根切り | C167: つぼ､布掘り | D167: 2581 | E167: ｍ3
B169: 床付け | C169: つぼ､布掘り | D169: 1513 | E169: ｍ2
B171: 埋戻し（B種） | C171: 現場発生土 | D171: 896 | E171: ｍ3
B173: 盛 土（B種） | C173: 現場発生土 | D173: 119 | E173: ｍ3
C174: ダンプトラック10t積 DID区間なし
B175: 建設発生土運搬費 | C175: バックホウ0.8m3 22.5km以下 | D175: 1566 | E175: ｍ3
B177: 土工機械運搬費 | D177: 1 | E177: 式
B181: 杭間ざらい | D181: 58 | E181: か所
B201: 計
A203: ３ | B203: 地業工事
B207: （一般地業）
B209: 砕石地業 | C209: 基礎下 再生ｸﾗｯｼｬｰﾗﾝ | D209: 124 | E209: ｍ3
B211: 砕石地業 | C211: 土間下 再生ｸﾗｯｼｬｰﾗﾝ | D211: 40.2 | E211: ｍ3
B213: 床下防湿シート敷 | C213: ﾎﾟﾘｴﾁﾚﾝﾌｨﾙﾑ t=0.15 | D213: 897 | E213: ｍ2
B215: 床下断熱材敷 | C215: ﾎﾟﾘｽﾁﾚﾝﾌｫｰﾑ t=25 | D215: 715 | E215: ｍ2
B219: （既成コンクリート杭）
B220: P1杭 | C220: 上杭:φ600 ONA105-A1 L=7.0m
B221: ＰＨＣパイル | C221: 下杭:φ6080 HF-ONA105-A1 L=7.0m | D221: 11 | E221: 本
B222: P2杭 | C222: 上杭:φ600 ONA105-B1 L=7.0m
B223: ＰＨＣパイル | C223: 下杭:φ4560 HF-ONA105-A1 L=7.0m | D223: 37 | E223: 本
B224: P3杭 | C224: 上杭:φ450 CPRC105-Ⅲ L=7.0m(PRC-6.0m)
B225: ＰＨＣパイル | C225: 下杭:φ3045 HF-ONA105-A1 L=7.0m | D225: 8 | E225: 本
B226: P4杭 | C226: 上杭:φ600 CPRC105-Ⅰ L=7.0m(PRC-6.0m)
B227: ＰＨＣパイル | C227: 下杭:φ4560 HF-ONA105-A1 L=7.0m | D227: 1 | E227: 本
B228: P5杭 | C228: 上杭:φ600 CPRC105-Ⅰ L=7.0m(PRC-6.0m)
B229: ＰＨＣパイル | C229: 下杭:φ6080 HF-ONA105-A1 L=7.0m | D229: 1 | E229: 本
B231: 杭荷下ろし料 | D231: 1 | E231: 式
C232: Hyper-MEGA工法
B233: 杭施工費 | C233: 杭継手:T･P JOINT(ﾄﾘﾌﾟﾙﾌﾟﾚｰﾄｼﾞｮｲﾝﾄ）同等以上 | D233: 1 | E233: 式
B237: （発生土処分） | C237: ※校舎棟に含む
B239: 杭発生土積込み | C239: バックホウ0.8m3
C240: ダンプトラック10t積 DID区間なし
B241: 杭発生土運搬 | C241: バックホウ0.8m3 22.5km以下
B245: （杭頭補強）
...

Sheet ③屋外倉庫
A1: 名 称 | C1: 摘 要 | D1: 数 量 | E1: 単位 | F1: 単 価 | G1: 金 額 | H1: 備 考
A3: ③ | B3: 屋外倉庫棟
A7: 1 | B7: 直接仮設工事 | D7: 1 | E7: 式
A9: ２ | B9: 土工事 | D9: 1 | E9: 式
A11: ３ | B11: 地業工事 | D11: 1 | E11: 式
A13: ４ | B13: 鉄筋工事 | D13: 1 | E13: 式
A15: ５ | B15: コンクリート工事 | D15: 1 | E15: 式
A17: ６ | B17: 型枠工事 | D17: 1 | E17: 式
A19: ７ | B19: 鉄骨工事 | D19: 1 | E19: 式
A21: ８ | B21: 既製コンクリート工事 | D21: 1 | E21: 式
A23: ９ | B23: 防水工事 | D23: 1 | E23: 式
A25: １０ | B25: 屋根及びとい工事 | D25: 1 | E25: 式
A27: １１ | B27: 金属工事 | D27: 1 | E27: 式
A29: １２ | B29: 左官工事 | D29: 1 | E29: 式
... A37: １６ | B37: 仕上ユニット工事 | D37: 1 | E37: 式
B41: 合 計
A43: １ | B43: 直接仮設工事
B47: やり方 | C47: S造 | D47: 97.3 | E47: m2
B49: 墨出し | C49: S造 | D49: 97.3 | E49: m2
B51: 養生 | C51: S造 | D51: 97.3 | E51: m2
B53: 整理清掃後片付け | C53: S造 | D53: 97.3 | E53: m2
C54: 枠組本足場(手すり先行方式) 運搬費共
B55: 外部足場 | C55: 建枠 600×1700 布枠500x1枚 12m未満 2ヶ月 | D55: 178 | E55: m2
B57: 災害防止（養生シート） | C57: 防炎I類 運搬費共 2ヶ月 | D57: 94.3 | E57: m2
B59: 内部仕上足場 | C59: 脚立足場 階高4.0ｍ以下 運搬費共 1ヶ月 | D59: 97.3 | E59: m2
B61: 鉄骨足場 | C61: 吊棚足場 1ヶ月 運搬費共 | D61: 97.3 | E61: m2
B81: 計
A83: ２ | B83: 土工事
B87: 根切り | C87: つぼ､布掘り | D87: 119 | E87: ｍ3
B89: 床付け | C89: つぼ､布掘り | D89: 29.4 | E89: ｍ2
B91: 埋戻し（B種） | C91: 現場発生土 | D91: 81 | E91: ｍ3
B93: 盛 土（B種） | C93: 現場発生土 | D93: 5.5 | E93: ｍ3
C94: ダンプトラック10t積 DID区間なし
B95: 建設発生土運搬費 | C95: バックホウ0.8m3 22.5km以下 | D95: 32.5 | E95: ｍ3
B97: 土工機械運搬費 | D97: 1 | E97: 式
B121: 計
A123: ３ | B123: 地業工事
B127: （一般地業）
B129: 砂利地業 | C129: 基礎下 再生ｸﾗｯｼｬｰﾗﾝ | D129: 4.4 | E129: ｍ3
B131: 砂利地業 | C131: 土間下 再生ｸﾗｯｼｬｰﾗﾝ | D131: 4.4 | E131: ｍ3
B133: 床下防湿シート敷 | C133: ﾎﾟﾘｴﾁﾚﾝﾌｨﾙﾑ t=0.15 | D133: 94.6 | E133: ｍ2
B139: （改良地業）
C140: 浅層混合処理工法
B141: 地盤改良 | C141: ｾﾒﾝﾄ又はｾﾒﾝﾄ系固化材100kg/m3 | D141: 128 | E141: ｍ3
B161: 計
A163: ４ | B163: 鉄筋工事
B167: 異形棒鋼 | C167: SD295A D10 | D167: 1.6 | E167: t
B169: 異形棒鋼 | C169: SD295A D13 | D169: 2 | E169: t
B171: 異形棒鋼 | C171: SD295A D16 | D171: 0.2 | E171: t
B173: 異形棒鋼 | C173: SSD345 D19 | D173: 2.3 | E173: t
B175: 異形棒鋼 | C175: SSD345 D22 | D175: 0.6 | E175: t
B177: 鉄筋加工組立 | D177: 6.3 | E177: t
B179: 鉄筋運搬費 | C179: 10t車 | D179: 6.3 | E179: t
B181: 鉄筋スクラップ控除 | C181: H2 | D181: -0.2 | E181: t
B185: 鉄筋ガス圧接 | C185: D19+D19 | D185: 72 | E185: か所
B187: 鉄筋ガス圧接 | C187: D22+D22 | D187: 24 | E187: か所
B201: 計
A203: ５ | B203: コンクリート工事
B207: 普通コンクリート | C207: Fc=18N/mm2 SL18 捨てコン | D207: 6.7 | E207: ｍ3
B209: 普通コンクリート | C209: Fc=24+3N/mm2 SL15 基礎部 | D209: 56.4 | E209: ｍ3
C212: シュート打設
B213: コンクリート打設手間 | C213: 捨て(基礎下)ｺﾝｸﾘｰﾄ | D213: 3 | E213: ｍ3
C214: シュート
B215: コンクリート打設手間 | C215: 捨て(土間ｽﾗﾌﾞ下)ｺﾝｸﾘｰﾄ | D215: 3.7 | E215: ｍ3
C216: ﾎﾟﾝﾌﾟ打設
B217: コンクリート打設手間 | C217: 基礎･地中梁ｺﾝｸﾘｰﾄ | D217: 41.7 | E217: ｍ3
C218: ﾎﾟﾝﾌﾟ打設
B219: コンクリート打設手間 | C219: 1階ｽﾗﾌﾞｺﾝｸﾘｰﾄ | D219: 14.7 | E219: ｍ3
B223: ポンプ圧送・基本料金 | C223: 50ｍ3未満（圧送料金共） | D223: 2 | E223: 回
B241: 計
A243: ６ | B243: 型枠工事
B247: 普通合板型枠 | C247: 基礎部 | D247: 167 | E247: ｍ2
B249: 打放合板型枠 | C249: B種 基礎部 | D249: 20 | E249: ｍ2
B251: 型枠運搬費 | C251: １０ｔ車 | D251: 187 | E251: ｍ2
B253: 打放面補修 | C253: Ｂ種 | D253: 20 | E253: ｍ2
B257: 誘発目地 | C257: 20x20 | D257: 3 | E257: ｍ
B281: 計
A283: ７ | B283: 鉄骨工事
C286: SN400B
B287: Ｈ形鋼 | C287: H-244x175x7x11 | D287: 1.26 | E287: t
C288: SN400B
B289: Ｈ形鋼 | C289: H-250x125x6x9 | D289: 0.73 | E289: t
C290: SS400
B291: Ｈ形鋼 | C291: H-200x100x5.5x8 | D291: 0.47 | E291: t
C292: SS400
B293: Ｈ形鋼 | C293: H-300x150x6.5x9 | D293: 0.46 | E293: t
C294: BCR295
B295: 建築構造用角形鋼管 | C295: □-200x200x6 | D295: 0.98 | E295: t
C296: STKR400
B297: 一般構造用角形鋼管 | C297: □-100x100x2.3 | D297: 0.08 | E297: t
C298: SSC400
B299: リップ溝形鋼 | C299: C-100x50x20x3.2 | D299: 0.4 | E299: t
C300: SN490C
B301: 鋼板 | C301: PL-16 | D301: 0.13 | E301: t
C302: SN400B
B303: 鋼板 | C303: PL-6 | D303: 0.1 | E303: t
C304: SN400B
B305: 鋼板 | C305: PL-9 | D305: 0.16 | E305: t
C306: SN400B
B307: 鋼板 | C307: PL-12 | D307: 0.26 | E307: t
...

Sheet ④車寄せ
A1: 名 称 | C1: 摘 要 | D1: 数 量 | E1: 単位 | F1: 単 価 | G1: 金 額 | H1: 備 考
A3: ④ | B3: 車寄せ棟
A7: 1 | B7: 直接仮設工事 | D7: 1 | E7: 式
A9: ２ | B9: 土工事 | D9: 1 | E9: 式
A11: ３ | B11: 地業工事 | D11: 1 | E11: 式
A13: ４ | B13: 鉄筋工事 | D13: 1 | E13: 式
A15: ５ | B15: コンクリート工事 | D15: 1 | E15: 式
A17: ６ | B17: 型枠工事 | D17: 1 | E17: 式
A19: ７ | B19: 鉄骨工事 | D19: 1 | E19: 式
A21: ８ | B21: 屋根及びとい工事 | D21: 1 | E21: 式
A23: ９ | B23: 塗装工事 | D23: 1 | E23: 式
B41: 合 計
A43: 1 | B43: 直接仮設工事
B47: やり方 | C47: 隅やり方 | D47: 4 | E47: ヶ所
B49: 墨出し | C49: 躯体 | D49: 13.7 | E49: m2
B51: 養生 | C51: 躯体 | D51: 13.7 | E51: m2
B53: 整理清掃後片付け | C53: RC造 | D53: 13.7 | E53: m2
B81: 計
A83: ２ | B83: 土工事
B87: 根切り | C87: つぼ､布掘り | D87: 33.8 | E87: ｍ3
B89: 床付け | C89: つぼ､布掘り | D89: 18 | E89: ｍ2
B91: 埋戻し（B種） | C91: 現場発生土 | D91: 20.8 | E91: ｍ3
C92: ダンプトラック10t積 DID区間なし
B93: 建設発生土運搬費 | C93: バックホウ0.8m3 22.5km以下 | D93: 13 | E93: ｍ3
B95: 土工機械運搬費 | C95: ※屋外倉庫棟_流用
B121: 計
A123: ３ | B123: 地業工事
B127: 砕石地業 | C127: 基礎下 再生ｸﾗｯｼｬｰﾗﾝ | D127: 2.7 | E127: ｍ3
B161: 計
A163: ４ | B163: 鉄筋工事
B167: 異形棒鋼 | C167: SD295A D13 | D167: 0.1 | E167: t
B169: 異形棒鋼 | C169: SD295A D16 | D169: 0.7 | E169: t
B171: 異形棒鋼 | C171: SSD345 D19 | D171: 0.1 | E171: t
B173: 鉄筋加工組立 | C173: 小型構造物 | D173: 0.9 | E173: t
B175: 鉄筋スクラップ控除 | C175: H2 | D175: -0.02 | E175: t
B201: 計
A203: ５ | B203: コンクリート工事
B207: 普通コンクリート | C207: Fc=18N/mm2 SL18 捨てコン | D207: 0.9 | E207: ｍ3
B209: 普通コンクリート | C209: Fc=24+3N/mm2 SL15 基礎部 | D209: 9.6 | E209: ｍ3
C210: シュート打設
B211: コンクリート打設手間 | C211: 捨て(基礎下)ｺﾝｸﾘｰﾄ | D211: 0.9 | E211: ｍ3
C212: 人力打設
B213: コンクリート打設手間 | C213: 基礎･地中梁ｺﾝｸﾘｰﾄ | D213: 9.6 | E213: ｍ3
B241: 計
A243: ６ | B243: 型枠工事
B247: 普通合板型枠 | C247: 小型構造物用型枠 | D247: 16 | E247: ｍ2
B249: 型枠運搬費 | C249: 10t車 | D249: 16 | E249: ｍ2
B281: 計
A283: ７ | B283: 鉄骨工事
B285: （材料費）
C286: SS400
B287: Ｈ形鋼 | C287: H-244x175x7x11 | D287: 0.56 | E287: t
C288: SS400
B289: Ｈ形鋼 | C289: H-250x125x6x9 | D289: 0.48 | E289: t
C290: STK400
B291: 一般構造用炭素鋼管 | C291: 〇-216.3x6 | D291: 0.44 | E291: t
C292: SN400C
B293: 鋼板 | C293: PL-19 | D293: 0.07 | E293: t
C294: SS400
B295: 鋼板 | C295: PL-9 | D295: 0.2 | E295: t
C296: SS400
B297: 鋼板 | C297: PL-32 | D297: 0.13 | E297: t
C298: F8T
B299: 溶融亜鉛メッキ高力ボルト | C299: M16xL45 | D299: 19 | E299: 本
C300: F8T
B301: 溶融亜鉛メッキ高力ボルト | C301: M20xL60 | D301: 58 | E301: 本
C302: F8T
B303: 溶融亜鉛メッキ高力ボルト | C303: M20xL65 | D303: 116 | E303: 本
C304: SS400
B305: 建築構造用アンカーボルト | C305: M22 L=440(ﾀﾞﾌﾞﾙﾅｯﾄ) | D305: 12 | E305: 本
B307: 鉄骨スクラップ控除 | C307: H2 | D307: -0.06 | E307: t
B311: （施工費）
B313: 工場製作費 | D313: 1.78 | E313: t
B315: 工場溶接費 | C315: 6mm換算長さ | D315: 56.1 | E315: ｍ
B317: 溶融亜鉛メッキ処理 | C317: A種(HDZ55) | D317: 1.78 | E317: t
B319: 鉄骨運搬費 | D319: 1.78 | E319: t
B321: 現場建方費 | C321: 建て方重機損料費別計上 | D321: 1.78 | E321: t
B323: 溶融亜鉛ﾒｯｷ高力ﾎﾞﾙﾄ本締め費 | D323: 186 | E323: 本
B325: アンカーボルト埋込み手間 | C325: M22 | D325: 12 | E325: か所
B327: 超音波探傷試験 | C327: AOQL4%第6水準 (20箇所) | D327: 1 | E327: 式
C332: A種 無収縮モルタル
B333: 柱底均しモルタル | C333: 厚50mm 400x400 | D333: 3 | E333: か所
B361: 計
A363: ８ | B363: 屋根及びとい工事
C366: t=54 W9000xD3520 落し口φ50ｱﾙﾐ押出形材
B367: 接着アルミハニカムパネル | C367: 幕板:ｱﾙﾐ板材 5x200(4方)共 | D367: 1 | E367: 式
B371: 竪樋 | C371: 硬質塩化ビニル管（VP）φ50カラー 掴み金物共 | D371: 6.6 | E371: ｍ
B401: 計
A403: ９ | B403: 塗装工事
B405: （外 部）
C406: 亜鉛メッキ面 A種
B407: ＤＰ塗装 | C407: 素地ごしらえ、下塗り別途 | D407: 40.3 | E407: ｍ2
B441: 計

Sheet ⑤屋外トイレ
A1: 名 称 | C1: 摘 要 | D1: 数 量 | E1: 単位 | F1: 単 価 | G1: 金 額 | H1: 備 考
A3: ⑤ | B3: 屋外トイレ棟
A7: 1 | B7: 直接仮設工事 | D7: 1 | E7: 式
A9: ２ | B9: 土工事 | D9: 1 | E9: 式
A11: ３ | B11: 地業工事 | D11: 1 | E11: 式
A13: ４ | B13: 鉄筋工事 | D13: 1 | E13: 式
A15: ５ | B15: コンクリート工事 | D15: 1 | E15: 式
A17: ６ | B17: 型枠工事 | D17: 1 | E17: 式
A19: ７ | B19: 既製コンクリート工事 | D19: 1 | E19: 式
A21: ８ | B21: 防水工事 | D21: 1 | E21: 式
A23: ９ | B23: タイル工事 | D23: 1 | E23: 式
A25: １０ | B25: 木工事 | D25: 1 | E25: 式
A27: １１ | B27: 金属工事 | D27: 1 | E27: 式
A29: １２ | B29: 左官工事 | D29: 1 | E29: 式
... A39: １７ | B39: 仕上ユニット工事 | D39: 1 | E39: 式
B41: 合 計
A43: 1 | B43: 直接仮設工事
B47: やり方 | C47: RC造 | D47: 52.5 | E47: ｍ2
B49: 墨出し | C49: RC造 | D49: 52.5 | E49: ｍ2
B51: 養生 | C51: RC造 | D51: 52.5 | E51: ｍ2
B53: 整理清掃後片付け | C53: RC造 | D53: 52.5 | E53: ｍ2
C54: 枠組本足場（手すり先行方式） 手摺、運搬費共
B55: 外部足場 | C55: 建枠 600×1700 布枠500x1枚 12m未満 ２ヶ月 | D55: 138 | E55: ｍ2
B57: 災害防止（養生シート） | C57: 防炎I類 運搬費共 2ヶ月 | D57: 73.9 | E57: ｍ2
B59: 内部仕上足場 | C59: 脚立足場 階高4.0ｍ以下 運搬費共 １ヶ月 | D59: 52.5 | E59: ｍ2
B81: 計
A83: ２ | B83: 土工事
B87: 根切り | C87: 総掘 法付オープンカット | D87: 137 | E87: ｍ3
B91: 埋戻し（B種） | C91: 現場発生土 | D91: 41.7 | E91: ｍ3
C92: ダンプトラック10t積 DID区間なし
B93: 建設発生土運搬費 | C93: バックホウ0.8m3 22.5km以下 | D93: 95.3 | E93: ｍ3
B95: 土工機械運搬費 | C95: ※屋外倉庫棟_流用
B121: 計
A123: ３ | B123: 地業工事
C126: 浅層混合処理工法
B127: 地盤改良 | C127: ｾﾒﾝﾄ又はｾﾒﾝﾄ系固化材100kg/m3 | D127: 101 | E127: ｍ3
B161: 計
A163: ４ | B163: 鉄筋工事
B167: 異形棒鋼 | C167: SD295A D10 | D167: 3.7 | E167: t
B169: 異形棒鋼 | C169: SD295A D13 | D169: 4.1 | E169: t
B171: 異形棒鋼 | C171: SD295A D16 | D171: 0.02 | E171: t
B173: 異形棒鋼 | C173: SD345 D19 | D173: 7.5 | E173: t
B175: 異形棒鋼 | C175: SD345 D22 | D175: 0.4 | E175: t
B177: 鉄筋加工組立 | C177: 壁式 | D177: 15 | E177: t
B179: 鉄筋運搬費 | C179: 10t車 | D179: 15 | E179: t
B181: 鉄筋スクラップ控除 | C181: H2 | D181: -0.4 | E181: t
B185: 鉄筋ガス圧接 | C185: D19+D19 | D185: 20 | E185: か所
B189: （外部）
B190: 屋根 排水溝
B191: 溶接金網敷き | C191: φ2.6-50ｘ50 | D191: 1.6 | E191: m2
B201: 計
A203: ５ | B203: コンクリート工事
B207: 普通コンクリート | C207: Fc=18N/mm2 SL18 捨てコン | D207: 2.9 | E207: ｍ3
B209: 普通コンクリート | C209: Fc=24+3N/mm2 SL15 基礎部 | D209: 46.7 | E209: ｍ3
B211: 普通コンクリート | C211: Fc=24+3N/mm2 SL18 地上部 | D211: 41.7 | E211: ｍ3
C214: シュート打設
B215: コンクリート打設手間 | C215: 捨て(基礎下)ｺﾝｸﾘｰﾄ | D215: 2.9 | E215: ｍ3
C216: ポンプ打設
B217: コンクリート打設手間 | C217: 底版ｺﾝｸﾘｰﾄ | D217: 23.6 | E217: ｍ3
C218: ポンプ打設
B219: コンクリート打設手間 | C219: 基礎･地中梁ｺﾝｸﾘｰﾄ | D219: 23.1 | E219: ｍ3
C220: ポンプ打設
B221: コンクリート打設手間 | C221: １階躯体 | D221: 41.7 | E221: ｍ3
B225: ポンプ圧送・基本料金 | C225: 50ｍ3未満（圧送料金共） | D225: 3 | E225: 回
B241: 計
A243: ６ | B243: 型枠工事
B247: 普通合板型枠 | C247: 基礎部 | D247: 179 | E247: ｍ2
B249: 普通合板型枠 | C249: 壁式 地上部 | D249: 219 | E249: ｍ2
B251: 打放合板型枠 | C251: A種 壁式 地上部 | D251: 78.6 | E251: ｍ2
B253: 打放合板型枠 | C253: B種 壁式 地上部 | D253: 51.4 | E253: ｍ2
B255: 打放合板型枠 | C255: C種 壁式 地上部 | D255: 14.4 | E255: ｍ2
B257: 型枠運搬費 | C257: 10t車 | D257: =ROUND(D247+D249+D251+D253+D255,0) -> 542 | E257: ｍ2
B259: 打放面補修 | C259: A種 | D259: =D251 -> 78.6 | E259: ｍ２
B261: 打放面補修 | C261: B種 | D261: =D253 -> 51.4 | E261: ｍ２
B263: 打放面補修 | C263: C種 | D263: =D255 -> 14.4 | E263: ｍ２
B265: 誘発目地 | C265: 20x20 | D265: 27.1 | E265: ｍ
B267: 打継目地 | C267: 20ｘ20 | D267: 29.9 | E267: ｍ
B271: 止水板 | C271: 水膨張止水ｺﾞﾑ | D271: 28.7 | E271: ｍ
B273: 人通孔 | C273: φ600ｘL250 | D273: 2 | E273: か所
B281: 計
A283: ７ | B283: 既製コンクリート工事
B287: （内 部）
B288: ﾗｲﾆﾝｸﾞ
B289: コンクリートブロック積 | C289: t=100 塗下 | D289: 9.4 | E289: m2
B321: 計
A323: ８ | B323: 防水工事
B327: （外 部）
B328: 屋根
B329: 複合塗膜防水 | C329: ﾀﾞｲﾌﾚｯｸｽ:ｸｲｯｸｽﾌﾟﾚｰUPN工法 | D329: 58.4 | E329: m2
B330: 屋根 立上り
B331: 複合塗膜防水 | C331: ﾀﾞｲﾌﾚｯｸｽ:ｸｲｯｸｽﾌﾟﾚｰUPN工法 | D331: 8.1 | E331: m2
B332: ﾊﾟﾗﾍﾟｯﾄ 天端
B333: 塗膜防水 | C333: X-2 | D333: 5.7 | E333: m2
B334: 誘発目地
B335: シーリング | C335: （PU-2） 20x10 | D335: 27.1 | E335: ｍ
B336: 打継目地
B337: シーリング | C337: （PU-2） 20x10 | D337: 29.9 | E337: ｍ
B338: 建具周囲
B339: シーリング | C339: （MS-2） 10x10 | D339: 16.1 | E339: ｍ
B343: （内 部）
...

Sheet ⑥駐輪場
A1: 名 称 | C1: 摘 要 | D1: 数 量 | E1: 単位 | F1: 単 価 | G1: 金 額 | H1: 備 考
A3: ⑥ | B3: 駐輪場棟
A7: 1 | B7: 直接仮設工事 | D7: 1 | E7: 式
A9: ２ | B9: 土工事 | D9: 1 | E9: 式
A11: ３ | B11: 地業工事 | D11: 1 | E11: 式
A13: ４ | B13: 鉄筋工事 | D13: 1 | E13: 式
A15: ５ | B15: コンクリート工事 | D15: 1 | E15: 式
A17: ６ | B17: 型枠工事 | D17: 1 | E17: 式
A19: ７ | B19: 金属工事 | D19: 1 | E19: 式
A21: ８ | B21: 左官工事 | D21: 1 | E21: 式
A23: ９ | B23: 塗装工事 | D23: 1 | E23: 式
A25: １０ | B25: 仕上ユニット工事 | D25: 1 | E25: 式
B41: 合 計
A43: 1 | B43: 直接仮設工事
B47: やり方 | C47: 隅やり方 | D47: 4 | E47: ヶ所
B49: 墨出し | C49: 躯体 | D49: 21 | E49: m2
B51: 養生 | C51: 躯体 | D51: 21 | E51: m2
B53: 整理清掃後片付け | C53: RC造 | D53: 21 | E53: m2
B81: 計
A83: ２ | B83: 土工事
B87: 根切り | C87: つぼ､布掘り | D87: 19.8 | E87: ｍ3
B89: 床付け | C89: つぼ､布掘り | D89: 19.3 | E89: m2
B91: 埋戻し（B種） | C91: 現場発生土 | D91: 10.5 | E91: ｍ3
C92: ダンプトラック10t積 DID区間なし
B93: 建設発生土運搬費 | C93: バックホウ0.8m3 22.5km以下 | D93: 9.3 | E93: ｍ3
B95: 土工機械運搬費 | C95: ※屋外倉庫棟_流用
B121: 計
A123: ３ | B123: 地業工事
B127: 砕石地業 | C127: 基礎下 再生ｸﾗｯｼｬｰﾗﾝ | D127: 2.1 | E127: ｍ3
B129: 砕石地業 | C129: 土間下 再生ｸﾗｯｼｬｰﾗﾝ | D129: 1.9 | E129: ｍ3
B161: 計
A163: ４ | B163: 鉄筋工事
B167: 異形棒鋼 | C167: SD295A D10 | D167: 0.2 | E167: t
B169: 異形棒鋼 | C169: SD295A D13 | D169: 1.6 | E169: t
B171: 鉄筋加工組立 | C171: 小型構造物 | D171: 1.7 | E171: t
B173: 鉄筋スクラップ控除 | C173: H2 | D173: -0.1 | E173: t
B175: 溶接金網敷き | C175: φ6-100ｘ100 | D175: 19.3 | E175: m2
B201: 計
A203: ５ | B203: コンクリート工事
B207: 普通コンクリート | C207: Fc=24+3N/mm2 SL15 基礎部 | D207: 11.1 | E207: ｍ3
C208: ポンプ打設
B209: コンクリート打設手間 | C209: 基礎･地中梁ｺﾝｸﾘｰﾄ | D209: 11.1 | E209: ｍ3
B211: ポンプ圧送・基本料金 | C211: 50ｍ3未満 （圧送料金共） | D211: 1 | E211: 回
B215: 普通コンクリート | C215: Fc=18N/mm2 SL18 土間コン | D215: 1.9 | E215: ｍ3
C216: シュート打設
B217: コンクリート打設手間 | C217: 土間コン | D217: 1.9 | E217: ｍ3
B241: 計
A243: ６ | B243: 型枠工事
B247: 普通合板型枠 | C247: 小型構造物用型枠 | D247: 19.7 | E247: ｍ2
B249: 打放合板型枠 | C249: A種 地上部 | D249: 37.5 | E249: ｍ2
B251: 型枠運搬費 | C251: 10t車 | D251: 57.2 | E251: ｍ2
B253: 打放面補修 | C253: A種 | D253: 37.5 | E253: m2
B281: 計
A283: ７ | B283: 金属工事
B287: 盗難防止パイプ | C287: (後付け型)SUS304 ﾍｱﾗｲﾝ仕上 H350程度 | D287: 9.2 | E287: ｍ
C288: ステンレス製グレーチング W150用
B289: 側溝蓋 | C289: 歩行用 普通目 プレーン | D289: 12.2 | E289: ｍ
B321: 計
A323: ８ | B323: 左官工事
B326: 笠木
B327: コンクリート直均し仕上げ | C327: 直均し W180 塗床下 | D327: 14.8 | E327: ｍ
B328: 側溝
B329: コンクリート直均し仕上げ | C329: 直均し W150 | D329: 12.2 | E329: ｍ
B330: 土間
B331: コンクリート直均し仕上げ | C331: 直均し | D331: 19.3 | E331: m2
B361: 計
A363: ９ | B363: 塗装工事
B366: 擁壁 | C366: 打放面 フッ素樹脂
B367: クリア塗装 | C367: 積水化学工業:ｷｸｽｲSPﾊﾟﾜｰﾌｯ素ｸﾘｱ | D367: 40.1 | E367: m2
B401: 計
A403: １０ | B403: 仕上ユニット工事
C406: ｱﾙﾐ押出し形材
B407: 駐輪場上屋 | C407: 10,000x2,100xH2,300 | D407: 1 | E407: 式
B441: 計

Sheet ⑦駐車場
A1: 名 称 | C1: 摘 要 | D1: 数 量 | E1: 単位 | F1: 単 価 | G1: 金 額 | H1: 備 考
A3: ⑦ | B3: 駐車場棟
A7: 1 | B7: 直接仮設工事 | D7: 1 | E7: 式
A9: ２ | B9: 土工事 | D9: 1 | E9: 式
A11: ３ | B11: 地業工事 | D11: 1 | E11: 式
A13: ４ | B13: 鉄筋工事 | D13: 1 | E13: 式
A15: ５ | B15: コンクリート工事 | D15: 1 | E15: 式
A17: ６ | B17: 型枠工事 | D17: 1 | E17: 式
A19: ７ | B19: 仕上ユニット工事 | D19: 1 | E19: 式
B41: 合 計
A43: 1 | B43: 直接仮設工事
B47: やり方 | C47: 隅やり方 | D47: 4 | E47: ヶ所
B49: 墨出し | C49: 躯体 | D49: 44.3 | E49: m2
B51: 養生 | C51: 躯体 | D51: 44.3 | E51: m2
B53: 整理清掃後片付け | C53: RC造 | D53: 44.3 | E53: m2
B81: 計
A83: ２ | B83: 土工事
B87: 根切り | C87: つぼ､布掘り | D87: 10.1 | E87: ｍ3
B89: 床付け | C89: つぼ､布掘り | D89: 3.2 | E89: m2
B91: 埋戻し（B種） | C91: 現場発生土 | D91: 8 | E91: ｍ3
C92: ダンプトラック10t積 DID区間なし
B93: 建設発生土運搬費 | C93: バックホウ0.8m3 22.5km以下 | D93: 2.1 | E93: ｍ3
B95: 土工機械運搬費 | C95: ※屋外倉庫棟_流用
B121: 計
A123: ３ | B123: 地業工事
B127: 砕石地業 | C127: 基礎下 再生ｸﾗｯｼｬｰﾗﾝ | D127: 0.3 | E127: ｍ3
B161: 計
A163: ４ | B163: 鉄筋工事
B167: 異形棒鋼 | C167: SD295A D13 | D167: 0.2 | E167: t
B169: 鉄筋加工組立 | C169: 小型構造物 | D169: 0.2 | E169: t
B201: 計
A203: ５ | B203: コンクリート工事
B207: 普通コンクリート | C207: Fc=24+3N/mm2 SL15 基礎部 | D207: 1.8 | E207: ｍ3
C208: 人力打設
B209: コンクリート打設手間 | C209: 基礎･地中梁ｺﾝｸﾘｰﾄ | D209: 1.8 | E209: ｍ3
B241: 計
A243: ６ | B243: 型枠工事
B247: 普通合板型枠 | C247: 小型構造物用型枠 | D247: 7.9 | E247: ｍ2
B249: 型枠運搬費 | C249: 10t車 | D249: 7.9 | E249: ｍ2
B281: 計
A283: ７ | B283: 仕上ユニット工事
C286: ｱﾙﾐ押出し形材
B287: 駐車場上屋 | C287: 7,700x6,000xH3,000 | D287: 1 | E287: 式
B321: 計

Sheet ⑧受水槽棟
A1: 名 称 | C1: 摘 要 | D1: 数 量 | E1: 単位 | F1: 単 価 | G1: 金 額 | H1: 備 考
A3: ⑧ | B3: 受水槽棟
A7: 1 | B7: 直接仮設工事 | D7: 1 | E7: 式
A9: ２ | B9: 土工事 | D9: 1 | E9: 式
A11: ３ | B11: 地業工事 | D11: 1 | E11: 式
A13: ４ | B13: 鉄筋工事 | D13: 1 | E13: 式
A15: ５ | B15: コンクリート工事 | D15: 1 | E15: 式
A17: ６ | B17: 型枠工事 | D17: 1 | E17: 式
A19: ７ | B19: 左官工事 | D19: 1 | E19: 式
B41: 合 計
A43: 1 | B43: 直接仮設工事
B47: やり方 | C47: 隅やり方 | D47: 4 | E47: ヶ所
B49: 墨出し | C49: 躯体 | D49: 21.4 | E49: m2
B51: 養生 | C51: 躯体 | D51: 21.4 | E51: m2
B53: 整理清掃後片付け | C53: RC造 | D53: 21.4 | E53: m2
B81: 計
A83: ２ | B83: 土工事
B87: 根切り | C87: つぼ､布掘り | D87: 14.7 | E87: ｍ3
B89: 床付け | C89: つぼ、布掘り | D89: 23.6 | E89: m2
B91: 埋戻し（B種） | C91: 現場発生土 | D91: 4.7 | E91: ｍ3
C92: ダンプトラック10t積 DID区間なし
B93: 建設発生土運搬費 | C93: バックホウ0.8m3 22.5km以下 | D93: 10 | E93: ｍ3
B95: 土工機械運搬費 | C95: ※屋外倉庫棟_流用
B121: 計
A123: ３ | B123: 地業工事
B127: 砕石地業 | C127: 基礎下 再生ｸﾗｯｼｬｰﾗﾝ | D127: 2.4 | E127: ｍ3
B161: 計
A163: ４ | B163: 鉄筋工事
B167: 異形棒鋼 | C167: SD295A D10 | D167: 0.1 | E167: t
B169: 異形棒鋼 | C169: SD295A D13 | D169: 1.1 | E169: t
B171: 鉄筋加工組立 | C171: 小型構造物 | D171: 1.2 | E171: t
B173: 鉄筋スクラップ控除 | C173: H2 | D173: -0.03 | E173: t
B201: 計
A203: ５ | B203: コンクリート工事
B207: 普通コンクリート | C207: Fc=18N/mm2 SL18 捨てコン | D207: 1.2 | E207: ｍ3
B209: 普通コンクリート | C209: Fc=21N/mm2 SL15 基礎部 | D209: 16 | E209: ｍ3
C210: シュート打設
B211: コンクリート打設手間 | C211: 捨て(基礎下)ｺﾝｸﾘｰﾄ | D211: 1.2 | E211: ｍ3
C212: シュート打設
B213: コンクリート打設手間 | C213: 基礎･地中梁ｺﾝｸﾘｰﾄ | D213: 16 | E213: ｍ3
B241: 計
A243: ６ | B243: 型枠工事
B247: 普通合板型枠 | C247: 小型構造物用型枠 | D247: 24.8 | E247: ｍ2
B249: 型枠運搬費 | C249: 10t車 | D249: 24.8 | E249: ｍ2
B281: 計
A283: ７ | B283: 左官工事
B286: 天端
B287: コンクリート直均し仕上げ | C287: 直均し | D287: 21.5 | E287: m2
B321: 計

Sheet ⑨外構
A1: 名 称 | C1: 摘 要 | D1: 数 量 | E1: 単位 | F1: 単 価 | G1: 金 額 | H1: 備 考
A3: ⑨ | B3: 外構
A7: １ | B7: 囲障工事 | D7: 1 | E7: 式
A9: ２ | B9: 構内舗装工事 | D9: 1 | E9: 式
A11: ３ | B11: 屋外排水工事 | D11: 1 | E11: 式
A13: ４ | B13: 植栽工事 | D13: 1 | E13: 式
A15: ５ | B15: その他工作物工事 | D15: 1 | E15: 式
B41: 合 計
A43: １ | B43: 囲障工事
B46: YO-1
B47: L型擁壁-1 | C47: L=23,800 | D47: 1 | E47: か所
B48: YO-2
B49: L型擁壁-2 | C49: L=5000 | D49: 1 | E49: か所
B52: MO-1
B53: フェンス門扉-1 | C53: ﾒｯｼｭﾌｪﾝｽ両開き扉 W3000xH1800 基礎別途 | D53: 1 | E53: か所
B54: MO-1
B55: フェンス門扉-1基礎 | D55: 1 | E55: か所
B57: 正門 門扉 | C57: W5000xH1400 両引き 基礎別途 | D57: 1 | E57: か所
B59: 西門 門扉 | C59: W8000xH1400 両引き 防護柵共 基礎別途 | D59: 1 | E59: か所
B61: 南門 門扉 | C61: W5000xH1400 片引き 防護柵共 基礎別途 | D61: 1 | E61: か所
B63: 正門門塀 | C63: H=1500､L=3500+3500 | D63: 1 | E63: か所
B65: 西門門塀 | C65: H=1500､L=5000+5000 | D65: 1 | E65: か所
B67: 南門門塀 | C67: H=1500､L=5070+8100+2400 | D67: 1 | E67: か所
B68: 西門 | C68: ｽﾁｰﾙ製（亜鉛メッキ）H900
B69: 防護柵 | C69: 笠木・支柱＠900・繋ぎ材：FB-9ｘ38 | D69: 6 | E69: ｍ
B70: 南門 | C70: ｽﾁｰﾙ製（亜鉛メッキ）H900
B71: 防護柵 | C71: 笠木・支柱＠900・繋ぎ材：FB-9ｘ38 | D71: 7.5 | E71: ｍ
B72: 西門防護柵 2液形 | C72: メッキ面 B種
B73: ﾎﾟﾘｳﾚﾀﾝｴﾅﾒﾙ塗料塗り(2-UE：細幅) | C73: 錆止塗料塗り B種 現場２回塗り | D73: 19.2 | E73: ｍ
B74: 南門防護柵 2液形 | C74: メッキ面 B種
B75: ﾎﾟﾘｳﾚﾀﾝｴﾅﾒﾙ塗料塗り(2-UE：細幅) | C75: 錆止塗料塗り B種 現場２回塗り | D75: 24 | E75: ｍ
B78: WL-1
B79: ウォール-1 | C79: L=55.70m | D79: 1 | E79: か所
B80: WL-2
B81: ウォール-2 | C81: L=71.10m | D81: 1 | E81: か所
B82: WL-3
B83: ウォール-3 | C83: L=56.70m | D83: 1 | E83: か所
B84: WL-4
B85: ウォール-4 | C85: L=20.00m | D85: 1 | E85: か所
B86: WL-5
B87: ウォール-5 | C87: L=60.90m | D87: 1 | E87: か所
B90: SB-1
B91: 植栽ベンチ-1 基礎 | C91: 6700x1400 | D91: 1 | E91: か所
B92: SB-2
B93: 植栽ベンチ-2 基礎 | C93: 3200x1400 | D93: 1 | E93: か所
B94: SB-3
B95: 植栽ベンチ-3 基礎 | C95: 4200x1600 | D95: 1 | E95: か所
B96: SB-4
B97: 植栽ベンチ-4 基礎 | C97: 3200x2100 | D97: 1 | E97: か所
B98: SB-5
B99: 植栽ベンチ-5 基礎 | C99: 2250x1200 | D99: 1 | E99: か所
B100: SB-6
B101: 植栽ベンチ-6 基礎 | C101: 6000x2500 | D101: 1 | E101: か所
B102: SB-7
B103: 植栽ベンチ-7 基礎 | C103: 4000x4000 | D103: 1 | E103: か所
B104: SB-8
B105: 植栽ベンチ-8 基礎 | C105: 6000x3500 | D105: 1 | E105: か所
C108: (G-015) 再生木無垢材 厚30mm
B109: （植栽ベンチ座板） | C109: 下地金物：ｽﾃﾝﾚｽ製角型鋼管(SUS304)□-20ｘ45ｘt1.5
B110: SB-1 | C110: L型
B111: 植栽ベンチ座板 | C111: W（5300+850）ｘD450 | D111: 1 | E111: か所
B112: SB-2 | C112: I型
B113: 植栽ベンチ座板 | C113: W2800xD450 | D113: 1 | E113: か所
B114: SB-3 | C114: L型
B115: 植栽ベンチ座板 | C115: W（3000+1500）ｘD450 | D115: 1 | E115: か所
B116: SB-4 | C116: L型
B117: 植栽ベンチ座板 | C117: W（3400+1800）ｘD450 | D117: 1 | E117: か所
B118: SB-5 | C118: L型
B119: 植栽ベンチ座板 | C119: W（2200+1200）ｘD450 | D119: 1 | E119: か所
B120: SB-6 | C120: I型
B121: 植栽ベンチ座板 | C121: W3500xD450 | D121: 2 | E121: か所
B122: SB-7 | C122: L型
B123: 植栽ベンチ座板 | C123: W（3450+2500）ｘD450 | D123: 1 | E123: か所
B124: SB-8 | C124: L型
B125: 植栽ベンチ座板 | C125: W（3400+2400）ｘD450 | D125: 1 | E125: か所
B130: TS | C130: ステンレス製（SUS304) H＝800
B131: 手 摺 （既製品） | C131: 笠木：φ42.7 支柱：φ48.6 | D131: 9 | E131: ｍ
B132: TS
B133: 手摺 基礎 | C133: 300ｘ300xH400ｘ10ヶ所 | D133: 1 | E133: 組
B136: FE-1
B137: フェンス-1 | C137: 格子ﾌｪﾝｽ H=1200 基礎共 | D137: 25 | E137: ｍ
B138: FE-2
B139: フェンス-2 | C139: 格子ﾌｪﾝｽ H=1200 擁壁天端 | D139: 28.8 | E139: ｍ
B140: FE-3
B141: フェンス-3 | C141: ﾒｯｼｭﾌｪﾝｽ H=1800 基礎共 | D141: 36.3 | E141: ｍ
B142: FE-7
B143: フェンス-7 | C143: ﾒｯｼｭﾌｪﾝｽ H=1200 基礎共 | D143: 90 | E143: ｍ
B144: FE-1
B145: フェンス-1 砕石地業 | C145: 基礎下 再生クラッシャーラン | D145: 0.2 | E145: m3
B146: FE-3
B147: フェンス-3 砕石地業 | C147: 基礎下 再生クラッシャーラン | D147: 0.3 | E147: m3
B148: FE-7
B149: フェンス-7 砕石地業 | C149: 基礎下 再生クラッシャーラン | D149: 0.4 | E149: m3
B152: CD-1 | C152: φ165.2 H=1000 SUSチェーンL9ｍ 基礎別途
B153: 車止め-1 （チェーン内臓型） | C153: ㈱サンポール：PA-17UC-HOL同等 | D153: 1 | E153: 本
B154: CD-1 | C154: φ165.2 H=1000 基礎別途
B155: 車止め-1 （チェーン受型） | C155: ㈱サンポール：PA-17U-1100-F01同等 | D155: 1 | E155: 本
B156: CD-1
B157: 車止め-1 基礎 | C157: 350x350xH250ｘ２ヶ所 | D157: 1 | E157: 組
B158: CD-2
...

Sheet ⑩土木
A1: 名 称 | C1: 摘 要 | D1: 数 量 | E1: 単位 | F1: 単 価 | G1: 金 額 | H1: 備 考
A3: ⑩ | B3: 土木工事
A7: １ | B7: 土木工事 | D7: 1 | E7: 式
B41: 計
A43: １ | B43: 土木工事
B44: 新設復旧工 | C44: 歩車道境界縁石 標準ﾌﾞﾛｯｸ | E44: ｍ
D45: 11.8
C46: 歩車道境界縁石 切下ﾌﾞﾛｯｸ | E46: ｍ
D47: 3.6
C48: 歩車道境界縁石 乗入ﾌﾞﾛｯｸ | E48: ｍ
D49: 33
C50: ｱｽﾌｧﾙﾄ舗装(45) | E50: m2
D51: 105
C52: 点字ﾌﾞﾛｯｸ | E52: ｍ
D53: 33
C54: Ｕ側溝復旧 自由勾配型側溝 300*700 | E54: ｍ
D55: 33
C56: 1号ﾎﾞｯｸｽｶﾙﾊﾞｰﾄ工 1500*1000 L=12.0m | E56: 式
D57: 1
C58: 2号ﾎﾞｯｸｽｶﾙﾊﾞｰﾄ工 1500*1000 L=9.0m | E58: 式
D59: 1
C60: 建込簡易土留工 | E60: ｍ
C61: 深さ 2m | D61: 21
C62: 転落防止柵 | E62: ｍ
C63: FE-2 | D63: 8
C64: 転落防止柵Ｒ再塗装 | E64: ｍ
C65: ケレン・塗装仕上げ | D65: 23
B68: 構造物撤去工 | C68: 歩車道境界縁石撤去 標準ﾌﾞﾛｯｸ | E68: ｍ
D69: 36
C70: 歩車道境界縁石撤去 切下ﾌﾞﾛｯｸ | E70: ｍ
D71: 0.6
C72: 歩車道境界縁石撤去 乗入ﾌﾞﾛｯｸ | E72: ｍ
D73: 11.8
C74: ｲﾝﾀｰﾛｯｷﾝｸﾞﾌﾞﾛｯｸ撤去(再設置) 撤去のみ(とりこわし) | E74: m2
C75: 撤去のみ 100m2未満 制約無 夜間無 | D75: 57.7
C76: Ｕ型側溝撤去 | E76: ｍ
D77: 33
C78: ｺﾝｸﾘｰﾄ舗装撤去 | E78: m2
D79: 14.3
C80: 水路撤去 | E80: ｍ
D81: 21
C82: 転落防止柵撤去 Ｄ | E82: ｍ
D83: 52
C84: 転落防止柵撤去 Ｒ | E84: ｍ
D85: 21
B88: ガラ運搬処分工 | C88: 無筋ｺﾝｸﾘｰﾄ殻処分 | E88: m3
D89: 48.8
C90: 鉄筋ｺﾝｸﾘｰﾄ殻処分 | E90: m3
D91: 3
C92: ｽｸﾗｯﾌﾟ | E92: ｔ
C93: 鉄屑 特級A (H1) | D93: -0.9
B121: 計

Sheet ⑪解体
A1: 名 称 | C1: 摘 要 | D1: 数 量 | E1: 単位 | F1: 単 価 | G1: 金 額 | H1: 備 考
A3: ⑪ | B3: 解体工事
B7: （建築工事）
A9: 1 | B9: 審判室 | D9: 1 | E9: 式
A11: 2 | B11: スコアボード室 | D11: 1 | E11: 式
A13: 3 | B13: 選手ベンチ室(1塁) | D13: 1 | E13: 式
A15: 4 | B15: 選手ベンチ室(3塁) | D15: 1 | E15: 式
A17: 5 | B17: 運動場倉庫 | D17: 1 | E17: 式
A19: 6 | B19: 屋外便所棟 | D19: 1 | E19: 式
A21: 7 | B21: 外構(Ka工事) | D21: 1 | E21: 式
A23: 8 | B23: 外構(Kb工事) | D23: 1 | E23: 式
B27: 小計
B31: （電気設備工事）
A33: 1 | B33: 外構設備 （Ka） | D33: 1 | E33: 式
A35: 2 | B35: 外構設備 （Kb） | D35: 1 | E35: 式
A37: 3 | B37: 仮設工事（弓道場側） | D37: 1 | E37: 式
A39: 4 | B39: 仮設工事（コミュニティセンター） | D39: 1 | E39: 式
A41: 5 | B41: 発生材処理 | D41: 1 | E41: 式
B45: 小計
B49: （機械設備工事）
A51: 1 | B51: ='⑪解体'!B1883 -> 衛生器具機器類撤去工事 | D51: 1 | E51: 式
A53: 2 | B53: ='⑪解体'!B1923 -> 給水設備撤去工事 | D53: 1 | E53: 式
A55: 3 | B55: 仮設給水設備工事 | D55: 1 | E55: 式
A57: 4 | B57: ='⑪解体'!B2003 -> 発生材処理 | D57: 1 | E57: 式
B61: 小計
B79: 計
A83: 1 | B83: 審判室
A87: 1-1 | B87: 直接仮設工事 | D87: 1 | E87: 式
A89: 1-2 | B89: とりこわし | D89: 1 | E89: 式
A91: 1-3 | B91: 発生材処理 | D91: 1 | E91: 式
B119: 計
A123: 1-1 | B123: 直接仮設工事
B127: 枠組本足場(手すり先行方式) | C127: W900 H=12.0未満 | D127: 74.7 | E127: ㎡
B129: 安全手すり(手すり先行方式) | C129: 枠組本足場用 | D129: 24.9 | E129: ｍ
B131: 防音ｼｰﾄ | D131: 74.7 | E131: ㎡
B133: 脚立足場 | C133: 階高4.0m未満 | D133: 41.5 | E133: ㎡
B159: 計
A163: 1-2 | B163: とりこわし
B165: 鉄筋ｺﾝｸﾘｰﾄ撤去 | C165: 基礎 圧砕機主体 | D165: 6.6 | E165: ｍ3
B167: 鉄筋ｺﾝｸﾘｰﾄ撤去 | C167: 地上 圧砕機主体 | D167: 20.2 | E167: ｍ3
B169: 土間ｺﾝｸﾘｰﾄ撤去 | C169: 圧砕機主体 | D169: 4.9 | E169: ｍ3
B171: 埋戻し(A種) | C171: － 山砂の類 | D171: 7.8 | E171: ｍ3
B175: 内部造作材とりこわし | D175: 41.5 | E175: ㎡
B199: 計
A203: 1-3 | B203: 発生材処理 | C203: 積込み共
B207: 発生材積込み | C207: ｺﾝｸﾘｰﾄ類 集積、積込み | D207: 33.6 | E207: m3
B209: 発生材積込み | C209: 内装材 積込み | D209: 1.5 | E209: m3
B212: とりこわし
B213: 発生材運搬 | C213: 無筋ｺﾝｸﾘｰﾄ類 | D213: 33.5 | E213: m3
B214: とりこわし
B215: 発生材運搬 | C215: 木くず | D215: 1.4 | E215: m3
B216: とりこわし
B217: 発生材運搬 | C217: ｶﾞﾗｽ､陶器屑 | D217: 0.1 | E217: m3
B218: とりこわし
B219: 発生材運搬 | C219: 廃ﾌﾟﾗｽﾁｯｸ類 | D219: 0.1 | E219: m3
B239: 計
A243: 2 | B243: スコアボード室
A247: 2-1 | B247: 直接仮設工事 | D247: 1 | E247: 式
A249: 2-2 | B249: とりこわし | D249: 1 | E249: 式
A251: 2-3 | B251: 発生材処理 | D251: 1 | E251: 式
B279: 計
A283: 2-1 | B283: 直接仮設工事
B287: 枠組本足場(手すり先行方式) | C287: W900 H=12.0未満 | D287: 42.4 | E287: ㎡
B289: 安全手すり(手すり先行方式) | C289: 枠組本足場用 | D289: 15.7 | E289: ｍ
B291: 防音ｼｰﾄ | D291: 42.4 | E291: ㎡
B293: 脚立足場 | C293: 階高4.0m未満 | D293: 5.5 | E293: ㎡
B319: 計
A323: 2-2 | B323: とりこわし
B327: 鉄筋ｺﾝｸﾘｰﾄ撤去 | C327: 基礎 圧砕機主体 | D327: 0.3 | E327: ｍ3
B329: 土間ｺﾝｸﾘｰﾄ撤去 | C329: 圧砕機主体 | D329: 1.2 | E329: ｍ3
B331: 埋戻し(A種) | C331: － 山砂の類 | D331: 2.2 | E331: ｍ3
B333: ｽｺｱﾎﾞｰﾄﾞ室鉄骨とりこわし | D333: 8.9 | E333: ㎡
B339: 外装材とりこわし (ｱｽﾍﾞｽﾄ含有) | C339: 壁小波ｽﾚｰﾄ 隔離養生、集積共 | D339: 0.2 | E339: ㎥
B359: 計
A363: 2-3 | B363: 発生材処理 | C363: 積込み共
B367: 発生材積込み | C367: ｺﾝｸﾘｰﾄ類 集積、積込み | D367: 1.9 | E367: m3
B369: 発生材積込み | C369: 内装材 積込み | D369: 0.6 | E369: m3
B372: とりこわし
B373: 発生材運搬 | C373: 無筋ｺﾝｸﾘｰﾄ類 | D373: 1.8 | E373: m3
B374: とりこわし
B375: 発生材運搬 | C375: 木くず | D375: 0.4 | E375: m3
B376: とりこわし
B377: 発生材運搬 | C377: ｶﾞﾗｽ､陶器屑 | D377: 0.03 | E377: m3
B378: とりこわし
B379: 発生材運搬 | C379: 廃ﾌﾟﾗｽﾁｯｸ類 | D379: 0.003 | E379: m3
B380: とりこわし
B381: 発生材運搬 | C381: ｱｽﾍﾞｽﾄ(非飛散性) | D381: 0.2 | E381: m3
B399: 計
A403: 3 | B403: 選手ベンチ室(1塁)
A407: 3-1 | B407: 直接仮設工事 | D407: 1 | E407: 式
A409: 3-2 | B409: とりこわし | D409: 1 | E409: 式
A411: 3-3 | B411: 発生材処理 | D411: 1 | E411: 式
B439: 計
A443: 3-1 | B443: 直接仮設工事
B447: 枠組本足場(手すり先行方式) | C447: W900 H=12.0未満 | D447: 45.6 | E447: ㎡
B449: 安全手すり(手すり先行方式) | C449: 枠組本足場用 | D449: 15.8 | E449: ｍ
B451: 防音ｼｰﾄ | D451: 45.6 | E451: ㎡
B453: 脚立足場 | C453: 階高4.0m未満 | D453: 14.6 | E453: ㎡
B479: 計
A483: 3-2 | B483: とりこわし
...

Sheet 別紙
A1: 名 称 | C1: 摘 要 | D1: 数 量 | E1: 単位 | F1: 単 価 | G1: 金 額 | H1: 備 考
B3: 別紙：金属－１ | C3: 校舎棟 壁 | G3: =ROUNDDOWN(D3*F3,0) -> 0
B5: 軽量鉄骨壁下地 開口部補強
C8: 扉等三方補強
B9: 軽量鉄骨壁下地 開口部補強 | C9: 65形 900ｘ2000程度 | D9: 61 | E9: か所
C10: 扉等三方補強
B11: 軽量鉄骨壁下地 開口部補強 | C11: 65形 1200ｘ2000程度 | D11: 18 | E11: か所
C12: 扉等三方補強
B13: 軽量鉄骨壁下地 開口部補強 | C13: 65形 1800ｘ2000程度 | D13: 4 | E13: か所
C14: 扉等二方補強
B15: 軽量鉄骨壁下地 開口部補強 | C15: 65形 3930ｘ2670 | D15: 1 | E15: か所
C16: 扉等一方補強
B17: 軽量鉄骨壁下地 開口部補強 | C17: 65形 7040 | D17: 1 | E17: か所
C18: ダクト等四方補強
B19: 軽量鉄骨壁下地 開口部補強 | C19: 65形 760ｘ2000 | D19: 1 | E19: か所
C20: ダクト等四方補強
B21: 軽量鉄骨壁下地 開口部補強 | C21: 65形 760ｘ1980 | D21: 1 | E21: か所
C22: ダクト等四方補強
B23: 軽量鉄骨壁下地 開口部補強 | C23: 65形 1300ｘ1000 | D23: 1 | E23: か所
C24: ダクト等四方補強
B25: 軽量鉄骨壁下地 開口部補強 | C25: 65形 5130ｘ1300 | D25: 1 | E25: か所
C26: ダクト等四方補強
B27: 軽量鉄骨壁下地 開口部補強 | C27: 65形 1520ｘ1950 | D27: 1 | E27: か所
C28: ダクト等四方補強
B29: 軽量鉄骨壁下地 開口部補強 | C29: 65形 1220ｘ1950 | D29: 1 | E29: か所
C30: ダクト等四方補強
B31: 軽量鉄骨壁下地 開口部補強 | C31: 65形 1800ｘ1200 | D31: 1 | E31: か所
C32: ダクト等四方補強
B33: 軽量鉄骨壁下地 開口部補強 | C33: 65形 450ｘ900 | D33: 1 | E33: か所
C34: ダクト等四方補強
B35: 軽量鉄骨壁下地 開口部補強 | C35: 65形 1000ｘ1200 | D35: 1 | E35: か所
B41: 計
B43: 別紙：金属－２ | C43: 校舎棟 天井
B45: 軽量鉄骨天井下地 開口部補強
B49: 軽量鉄骨天井下地 開口部補強 | C49: 19形 300ｘ300程度 | D49: =94+133+36 -> 263 | E49: か所
B51: 軽量鉄骨天井下地 開口部補強 | C51: 19形 450ｘ450程度 | D51: =34+25+(4)+474 -> 537 | E51: か所
B53: 軽量鉄骨天井下地 開口部補強 | C53: 19形 600ｘ600程度 | D53: =11+(6+1)+18+2+5 -> 43 | E53: か所
B57: 軽量鉄骨天井下地 開口部補強 | C57: 19形 900ｘ900程度 | D57: =3+(69) -> 72 | E57: か所
B59: 軽量鉄骨天井下地 開口部補強 | C59: 19形 300ｘ1200程度 | D59: =4+6+1+8+4+81+405 -> 509 | E59: か所
B63: 軽量鉄骨天井下地 開口部補強 | C63: 19形 300ｘ2400程度 | D63: 1 | E63: か所
B65: 軽量鉄骨天井下地 開口部補強 | C65: 19形 600ｘ1200程度 | D65: =13+1 -> 14 | E65: か所
B67: 軽量鉄骨天井下地 開口部補強 | C67: 19形 300ｘ3600程度 | D67: 1 | E67: か所
B69: 軽量鉄骨天井下地 開口部補強 | C69: 19形 1500ｘ6600 | D69: 1 | E69: か所
B81: 計
B83: 別紙：金属－３ | C83: 体育館棟 壁
B85: 軽量鉄骨壁下地 開口部補強
C88: 扉等三方補強
B89: 軽量鉄骨壁下地 開口部補強 | C89: 65形 900ｘ2000程度 | D89: 55 | E89: か所
C90: 扉等三方補強
B91: 軽量鉄骨壁下地 開口部補強 | C91: 65形 1200ｘ2000程度 | D91: 12 | E91: か所
C92: 扉等三方補強
B93: 軽量鉄骨壁下地 開口部補強 | C93: 65形 1800ｘ2000程度 | D93: 3 | E93: か所
C94: 扉等三方補強
B95: 軽量鉄骨壁下地 開口部補強 | C95: 65形 2200ｘ2700 | D95: 1 | E95: か所
C96: 扉等三方補強
B97: 軽量鉄骨壁下地 開口部補強 | C97: 65形 6100ｘ2670 | D97: 1 | E97: か所
C102: ダクト等四方補強
B103: 軽量鉄骨壁下地 開口部補強 | C103: 65形 300ｘ600 | D103: 10 | E103: か所
C104: ダクト等四方補強
B105: 軽量鉄骨壁下地 開口部補強 | C105: 65形 1500ｘ1700 | D105: 1 | E105: か所
C106: ダクト等四方補強
B107: 軽量鉄骨壁下地 開口部補強 | C107: 65形 1600ｘ1200 | D107: 2 | E107: か所
C108: ダクト等四方補強
B109: 軽量鉄骨壁下地 開口部補強 | C109: 65形 1600ｘ1780 | D109: 3 | E109: か所
C110: ダクト等四方補強
B111: 軽量鉄骨壁下地 開口部補強 | C111: 65形 4000ｘ2000 | D111: 1 | E111: か所
C112: ダクト等四方補強
B113: 軽量鉄骨壁下地 開口部補強 | C113: 65形 4800ｘ1880 | D113: 1 | E113: か所
C118: 扉等三方補強
B119: 軽量鉄骨壁下地 開口部補強 | C119: 100形 1800ｘ2000程度 | D119: 5 | E119: か所
C122: ダクト等四方補強
B123: 軽量鉄骨壁下地 開口部補強 | C123: 100形 1100ｘ1200 | D123: 1 | E123: か所
C124: ダクト等四方補強
B125: 軽量鉄骨壁下地 開口部補強 | C125: 100形1200ｘ2000 | D125: 3 | E125: か所
C126: ダクト等四方補強
B127: 軽量鉄骨壁下地 開口部補強 | C127: 100形 1800ｘ2000程度 | D127: 1 | E127: か所
B161: 計
B163: 別紙：金属－４ | C163: 体育館棟 天井
B165: 軽量鉄骨天井下地 開口部補強 | C165: （A-081）
B169: 軽量鉄骨天井下地 開口部補強 | C169: 19形 300ｘ300程度 | D169: =116+21+19 -> 156 | E169: か所
B171: 軽量鉄骨天井下地 開口部補強 | C171: 19形 450ｘ450程度 | D171: =12+9+2 -> 23 | E171: か所
B173: 軽量鉄骨天井下地 開口部補強 | C173: 19形 600ｘ600程度 | D173: =3+28+166 -> 197 | E173: か所
B175: 軽量鉄骨天井下地 開口部補強 | C175: 19形 900ｘ900程度 | D175: =1+28 -> 29 | E175: か所
B177: 軽量鉄骨天井下地 開口部補強 | C177: 19形 300ｘ1200程度 | D177: =2+17+6 -> 25 | E177: か所
B179: 軽量鉄骨天井下地 開口部補強 | C179: 19形 600ｘ1200程度 | D179: =2+1 -> 3 | E179: か所
B201: 計
B203: 別紙：内装－１ | C203: 校舎棟 耐火間仕切
B205: 軽量鉄骨壁下地 開口部補強
C208: 扉等三方補強
B209: 軽量鉄骨壁下地 開口部補強 | C209: 65形 900ｘ2000程度 | D209: 15 | E209: か所
C210: 扉等三方補強
B211: 軽量鉄骨壁下地 開口部補強 | C211: 65形 1200ｘ2000程度 | D211: 1 | E211: か所
C212: 扉等三方補強
B213: 軽量鉄骨壁下地 開口部補強 | C213: 65形 1800ｘ2000程度 | D213: 3 | E213: か所
C214: 扉等三方補強
B215: 軽量鉄骨壁下地 開口部補強 | C215: 65形 7000ｘ2700程度 | D215: 23 | E215: か所
C216: 扉等三方補強
B217: 軽量鉄骨壁下地 開口部補強 | C217: 65形 5000ｘ2700程度 | D217: 2 | E217: か所
C218: 扉等三方補強
B219: 軽量鉄骨壁下地 開口部補強 | C219: 65形 4000ｘ2700程度 | D219: 2 | E219: か所
...

Sheet 共通仮設
A1: 名 称 | C1: 摘 要 | D1: 数 量 | E1: 単位 | F1: 単 価 | G1: 金 額 | H1: 備 考
B3: 共通仮設費 | C3: 積み上げ
B7: 万能鋼板② | C7: H=3.0m 17ヶ月 | D7: 80.2 | E7: ｍ
B9: 万能鋼板① | C9: H=3.0m 17ヶ月 | D9: 250 | E9: ｍ
B11: 万能鋼板① | C11: H=3.0m 21ヶ月+盛替え1回 | D11: 112 | E11: ｍ
B13: 万能鋼板① | C13: H=3.0m 21ヶ月+盛替え1回 | D13: 234 | E13: ｍ
B15: シートゲート | C15: W5.4+5.4 21ヶ月+盛替え1回 | D15: 1 | E15: か所
B17: シートゲート | C17: W5.4 21ヶ月 | D17: 1 | E17: か所
B19: 交通誘導員 | D19: 1 | E19: 式
B22: ①校舎棟： | C22: ａ．渡り廊下＋ｂ．目隠し壁下地鉄骨＋ｃ．その他鉄骨
B23: 建方重機損料費 | C23: 10ｔクレーン | D23: 1 | E23: 式
B24: ②体育館棟： | C24: ａ．体育館大屋根鉄骨＋ｂ.ステージ舞台周り鉄骨
B25: 建方重機損料 | C25: ｃ．多目的ホール屋根鉄骨＋ｄ．屋外階段鉄骨 | D25: 1 | E25: 式
C26: ｅ．目隠し壁下地鉄骨＋ｆ．その他鉄骨
C27: 50ｔクレーン
B28: ③屋外倉庫棟
B29: 建方重機損料 | C29: 10ｔクレーン | D29: 1 | E29: 式
B30: ④車寄せ棟
B31: 建方重機損料 | C31: 10ｔクレーン | D31: 1 | E31: 式
B41: 計

Sheet 産廃処分
A1: 名 称 | C1: 摘 要 | D1: 数 量 | E1: 単位 | F1: 単 価 | G1: 金 額 | H1: 備 考
A3: D | B3: 産業廃棄物等処分費
B6: ①校舎棟
B7: 建設発生土処分 | C7: 一般土砂 | D7: ='①校舎棟'!D175 -> 3531 | E7: m3
B8: ①校舎棟
B9: 杭発生土処分 | C9: 建設汚泥 | D9: ='①校舎棟'!D237 -> 1203 | E9: m3
B10: ②体育館棟
B11: 建設発生土処分 | C11: 一般土砂 | D11: ='②体育館棟'!D175 -> 1566 | E11: m3
B12: ②体育館棟
B13: 杭発生土処分 | C13: 建設汚泥 ※注記：校舎等に含む
B14: ③屋外倉庫棟
B15: 建設発生土処分 | C15: 一般土砂 | D15: ='③屋外倉庫'!D95 -> 32.5 | E15: m3
B16: ④車寄せ棟
B17: 建設発生土処分 | C17: 一般土砂 | D17: ='④車寄せ'!D93 -> 13 | E17: m3
B18: ⑤屋外トイレ棟
B19: 建設発生土処分 | C19: 一般土砂 | D19: ='⑤屋外トイレ'!D93 -> 95.3 | E19: m3
B20: ⑥駐輪場棟
B21: 建設発生土処分 | C21: 一般土砂 | D21: ='⑥駐輪場'!D93 -> 9.3 | E21: m3
B22: ⑦駐車場棟
B23: 建設発生土処分 | C23: 一般土砂 | D23: ='⑦駐車場'!D93 -> 2.1 | E23: m3
B24: ⑧受水槽棟
B25: 建設発生土処分 | C25: 一般土砂 | D25: ='⑧受水槽棟'!D93 -> 10 | E25: m3
B26: ⑨外構：囲障工事
B27: 建設発生土処分 | C27: 一般土砂 | D27: ='⑨外構'!D173 -> 95.8 | E27: m3
B28: ⑨外構：構内舗装工事
B29: 建設発生土処分 | C29: 一般土砂
B30: ⑨外構：屋外排水工事
B31: 建設発生土処分 | C31: 一般土砂 | D31: ='⑨外構'!D495 -> 306 | E31: m3
B32: ⑨外構：植栽工事
B33: 建設発生土処分 | C33: 一般土砂
B34: ⑨外構：その他工事
B35: 建設発生土処分 | C35: 一般土砂 | D35: ='⑨外構'!D749 -> 17.6 | E35: m3
B47: 発生材処分 | C47: 無筋コンクリート類 | D47: 514 | E47: m3
B49: 発生材処分 | C49: アスファルト類 | D49: 128 | E49: m3
B51: 発生材処分 | C51: ガラス、陶磁器類 | D51: 2.13 | E51: m3
B53: 発生材処分 | C53: 建設木屑 | D53: =1.4+0.4+0.2+0.2+0.7+0.1+47.3+3.2 -> 53.5 | E53: m3
B55: 発生材処分 | C55: 廃プラスチック類 | D55: 2.07 | E55: m3
B57: 発生材処分 | C57: 非飛散性アスベスト | D57: =0.2+0.04 -> 0.24 | E57: m3
B59: 発生材処分 | C59: 蛍光管・水銀灯 | D59: =(0.18) -> 0.18 | E59: ｔ
B61: （有価物）
B63: スクラップ控除 | C63: Ｈ３ | D63: -32.8 | E63: ｔ
B65: スクラップ控除 | C65: アルミ製 | D65: =-0.2-0.1-0.4-0.01-0.02-0.1 -> -0.83 | E65: ｔ
B81: 計
